BEGIN:VCALENDAR
VERSION:2.0
PRODID:-//Klauzál Gábor Budafok-Tétényi Művelődési központ - ECPv6.15.18//NONSGML v1.0//EN
CALSCALE:GREGORIAN
METHOD:PUBLISH
X-ORIGINAL-URL:https://klauzalhaz.hu
X-WR-CALDESC:Események Klauzál Gábor Budafok-Tétényi Művelődési központ
REFRESH-INTERVAL;VALUE=DURATION:PT1H
X-Robots-Tag:noindex
X-PUBLISHED-TTL:PT1H
BEGIN:VTIMEZONE
TZID:Europe/Budapest
BEGIN:DAYLIGHT
TZOFFSETFROM:+0100
TZOFFSETTO:+0200
TZNAME:CEST
DTSTART:20250330T010000
END:DAYLIGHT
BEGIN:STANDARD
TZOFFSETFROM:+0200
TZOFFSETTO:+0100
TZNAME:CET
DTSTART:20251026T010000
END:STANDARD
BEGIN:DAYLIGHT
TZOFFSETFROM:+0100
TZOFFSETTO:+0200
TZNAME:CEST
DTSTART:20260329T010000
END:DAYLIGHT
BEGIN:STANDARD
TZOFFSETFROM:+0200
TZOFFSETTO:+0100
TZNAME:CET
DTSTART:20261025T010000
END:STANDARD
BEGIN:DAYLIGHT
TZOFFSETFROM:+0100
TZOFFSETTO:+0200
TZNAME:CEST
DTSTART:20270328T010000
END:DAYLIGHT
BEGIN:STANDARD
TZOFFSETFROM:+0200
TZOFFSETTO:+0100
TZNAME:CET
DTSTART:20271031T010000
END:STANDARD
END:VTIMEZONE
BEGIN:VEVENT
DTSTART;TZID=Europe/Budapest:20260514T180000
DTEND;TZID=Europe/Budapest:20260514T190000
DTSTAMP:20260420T123056
CREATED:20260325T150607Z
LAST-MODIFIED:20260325T150607Z
UID:10013569-1778781600-1778785200@klauzalhaz.hu
SUMMARY:Feltár\, szembesít\, kritikát gyakorol | Irodalmi Szalon Závada Pállal
DESCRIPTION:május 14. csütörtök 18.00\nFeltár\, szembesít\, kritikát gyakorol\nIrodalmi Szalon Závada Pállal \nSzéchenyi Ágnes irodalomtörténész vendége Závada Pál szociológus\, szociográfus és író. A három majdnem ugyanaz\, de mégsem: nagyon is különböző tevékenység\, hozzáállás.\nAz 1986-ban megjelent Kulákprés című könyve egy időben húszezer forintért volt kapható\, mert ritka volt\, az iránta való érdeklődés azóta is töretlen. Kamaszkora Tótkomlóshoz köti\, témáiban is vissza-visszatér városához és vidékéhez. Kívülről tört be az irodalomba\, s igen hamar Kossuth-díjas lett. A mikrotörténelemből indul ki\, kényes-kellemetlen\, elhallgatott magán- és köztörténetekhez\, témákhoz nyúl. Őt olvasni nyugtalanító\, lelkiismeretébresztő. \n\,\,Ha van folytonosság a Závada-életműben\, akkor pontosan ez: végigkutatja és végigírja a huszadik századi magyar történelem legsötétebb\, legembertelenebb korszakait. Dokumentál\, kritikát gyakorol\, feltár\, szembesít. Öntörvényűen\, megalkuvás nélkül” – írta egyik méltatója abból az alkalomból\, hogy tavaly Rommer Vilmos díjat kapott. \nJegyár: 2 000 Ft\nHelyszín: Magdolna Udvar
URL:https://klauzalhaz.hu/esemeny/feltar-szembesit-kritikat-gyakorol-irodalmi-szalon-zavada-pallal/
LOCATION:Magdolna Udvar\, Kossuth Lajos utca 24.\, Budapest\, 1221\, Hungary
CATEGORIES:Ismeretterjesztés,Programajánló,Programok,Tavaszi Fesztivál 2026
ATTACH;FMTTYPE=image/jpeg:https://klauzalhaz.hu/wp-content/uploads/2026/03/Zavada_1080.jpg
END:VEVENT
BEGIN:VEVENT
DTSTART;TZID=Europe/Budapest:20260515T180000
DTEND;TZID=Europe/Budapest:20260515T190000
DTSTAMP:20260420T123056
CREATED:20260327T161601Z
LAST-MODIFIED:20260327T161601Z
UID:10013574-1778868000-1778871600@klauzalhaz.hu
SUMMARY:Szürtreál - Az Artér Művészeti Egyesület tagjainak kiállítása
DESCRIPTION:május 15. péntek 18.00\nSzürtreál – Az Artér Művészeti Egyesület tagjainak kiállítása \nAz Artér Művészeti Egyesület tagjainak közös kiállítása a valóság és a szürrealitás határmezsgyéjén hoz létre egy új\, átmeneti művészeti teret. A szűrt\, áttetsző rétegek és az álomszerű képiség egymásba oldódva\nalakítják át a megszokott látványt. \nA megnyitó ünnepélyességét Cseh László szaxofonjának hangja emeli\, amely finoman rezonál a kiállítás kettős világával. Cseh László akusztikus tenor szaxofonján közismert jazz-standardek\, bossa novák és lírai jazzballadák hangzanak el\, a dallam és az improvizáció harmonikus egymásba fonódásával. \nSzervező: Artér Művészeti Egyesület \nA részvétel díjtalan.
URL:https://klauzalhaz.hu/esemeny/szurtreal-az-arter-muveszeti-egyesulet-tagjainak-kiallitasa/
LOCATION:Magdolna Udvar\, Kossuth Lajos utca 24.\, Budapest\, 1221\, Hungary
CATEGORIES:Kiállítás,Programajánló,Programok,Tavaszi Fesztivál 2026
ATTACH;FMTTYPE=image/jpeg:https://klauzalhaz.hu/wp-content/uploads/2026/03/Arter_1080.jpg
END:VEVENT
BEGIN:VEVENT
DTSTART;TZID=Europe/Budapest:20260522T180000
DTEND;TZID=Europe/Budapest:20260522T190000
DTSTAMP:20260420T123056
CREATED:20260327T164127Z
LAST-MODIFIED:20260327T164127Z
UID:10013579-1779472800-1779476400@klauzalhaz.hu
SUMMARY:Ligeti Zsuzsa grafikusművész önálló kiállítása
DESCRIPTION:május 22. péntek 18.00\nLigeti Zsuzsa grafikusművész önálló kiállítása \n\,\,A pillanat varázsát akarom megragadni. Különösen érdekel a mozgás megjelenítése\, hiszen nincs két egyforma mozdulat\, de azt ábrázolni kell. Ezek valóban pillanatrajzok. Ugyanilyen fontosak számomra a természet formálta hegyek\, sziklák\, vízesések\, virágok\, fák\, az ember teremtette alkotások. Rajzaim között vannak\, amelyek csak néhány vonallal készülnek\, mert ez is elegendő a látvány megragadásához. Máskor úgy érzem\, több időt kell szentelnem egy-egy rajznak\, hogy vissza tudjam adni benyomásaimat. A FSZEK budafoki könyvtárában évekkel ezelőtt már bemutathattam rajzaimat\, most az utóbbi évek terméséből válogattam. Ellesett pillanatok a környezetből\, illetve utazásaim alatt készült pillanatrajzait mutatom meg. ” (Ligeti Zsuzsa) \nSzervező: Artér Művészeti Egyesület \nA részvétel díjtalan.
URL:https://klauzalhaz.hu/esemeny/ligeti-zsuzsa-grafikusmuvesz-onallo-kiallitasa/
LOCATION:Magdolna Udvar\, Kossuth Lajos utca 24.\, Budapest\, 1221\, Hungary
CATEGORIES:Kiállítás,Programajánló,Programok,Tavaszi Fesztivál 2026
ATTACH;FMTTYPE=image/jpeg:https://klauzalhaz.hu/wp-content/uploads/2026/03/Ligeti_Zsuzsa_1080.jpg
END:VEVENT
END:VCALENDAR