BEGIN:VCALENDAR
VERSION:2.0
PRODID:-//Klauzál Gábor Budafok-Tétényi Művelődési központ - ECPv6.15.18//NONSGML v1.0//EN
CALSCALE:GREGORIAN
METHOD:PUBLISH
X-ORIGINAL-URL:https://klauzalhaz.hu
X-WR-CALDESC:Események Klauzál Gábor Budafok-Tétényi Művelődési központ
REFRESH-INTERVAL;VALUE=DURATION:PT1H
X-Robots-Tag:noindex
X-PUBLISHED-TTL:PT1H
BEGIN:VTIMEZONE
TZID:Europe/Budapest
BEGIN:DAYLIGHT
TZOFFSETFROM:+0100
TZOFFSETTO:+0200
TZNAME:CEST
DTSTART:20250330T010000
END:DAYLIGHT
BEGIN:STANDARD
TZOFFSETFROM:+0200
TZOFFSETTO:+0100
TZNAME:CET
DTSTART:20251026T010000
END:STANDARD
BEGIN:DAYLIGHT
TZOFFSETFROM:+0100
TZOFFSETTO:+0200
TZNAME:CEST
DTSTART:20260329T010000
END:DAYLIGHT
BEGIN:STANDARD
TZOFFSETFROM:+0200
TZOFFSETTO:+0100
TZNAME:CET
DTSTART:20261025T010000
END:STANDARD
BEGIN:DAYLIGHT
TZOFFSETFROM:+0100
TZOFFSETTO:+0200
TZNAME:CEST
DTSTART:20270328T010000
END:DAYLIGHT
BEGIN:STANDARD
TZOFFSETFROM:+0200
TZOFFSETTO:+0100
TZNAME:CET
DTSTART:20271031T010000
END:STANDARD
END:VTIMEZONE
BEGIN:VEVENT
DTSTART;TZID=Europe/Budapest:20260527T180000
DTEND;TZID=Europe/Budapest:20260527T190000
DTSTAMP:20260421T120358
CREATED:20260327T165204Z
LAST-MODIFIED:20260327T165204Z
UID:10013583-1779904800-1779908400@klauzalhaz.hu
SUMMARY:Szálból szőtt történelem – hogyan nyomoz a textilkutató régész?
DESCRIPTION:Május 27. szerda 18.00\nSzálból szőtt történelem – hogyan nyomoz a textilkutató régész?\nismeretterjesztő előadás \nA textilek ritkán maradnak fenn a régészeti leletanyagban\, mégis rengeteget elárulnak a múlt embereiről. Egy textilkutató régész apró nyomokból – szövetszerkezetből\, lenyomatokból\, eszközökből és ábrázolásokból – próbálja rekonstruálni\, mit viseltek\, hogyan készítették ruháikat\, és mit jelentett számukra az öltözet. Az előadás bepillantást ad ebbe a különleges „\,nyomozásba”\, bemutatva\, miként válik a textil a múlt társadalmi és kulturális történetének forrásává. \nElőadó: Zay Orsolya régész\, az MMA MMKI kutatója \nA részvétel díjtalan\, de regisztrációhoz kötött. Regisztrálni a fszek2201@fszek.hu címen lehet.
URL:https://klauzalhaz.hu/esemeny/szalbol-szott-tortenelem-hogyan-nyomoz-a-textilkutato-regesz/
LOCATION:FSZEK Nagytétényi Könyvtár\, Nagytétényi út 283.\, Budapest\, 1225\, Hungary
CATEGORIES:Ismeretterjesztés,Programajánló,Programok,Tavaszi Fesztivál 2026
ATTACH;FMTTYPE=image/jpeg:https://klauzalhaz.hu/wp-content/uploads/2026/03/Szalbol-szott-tortenelem_1080.jpg
END:VEVENT
BEGIN:VEVENT
DTSTART;TZID=Europe/Budapest:20260605T173000
DTEND;TZID=Europe/Budapest:20260605T183000
DTSTAMP:20260421T120358
CREATED:20260327T171633Z
LAST-MODIFIED:20260409T133029Z
UID:10013588-1780680600-1780684200@klauzalhaz.hu
SUMMARY:Szó – képek | Szatmári Éva kiállítása
DESCRIPTION:június 5. péntek 17.30\nSzó – képek | Szatmári Éva kiállítása \nMit tehet egy kommunikációs szakember\, amikor a régi újságok lapozgatása közben megszólítják a szavak és címek? Reflektál rájuk. Kép és szó összesimul\, eggyé lesz\, e többletérték elgondolkodtató.\nA kiállításon a képek mellett néhány újra gondolt bútor is bemutatásra kerül. \nZenél: Rácz Márton jazz zongorista \nA részvétel díjtalan.\nSzervező: FSZEK Nagytétényi Könyvtár
URL:https://klauzalhaz.hu/esemeny/szo-kepek-szatmari-eva-kiallitasa/
LOCATION:FSZEK Nagytétényi Könyvtár\, Nagytétényi út 283.\, Budapest\, 1225\, Hungary
CATEGORIES:Kiállítás,Programajánló,Programok,Tavaszi Fesztivál 2026
ATTACH;FMTTYPE=image/jpeg:https://klauzalhaz.hu/wp-content/uploads/2026/03/Szatmari_Eva_1080.jpg
END:VEVENT
END:VCALENDAR