BEGIN:VCALENDAR
VERSION:2.0
PRODID:-//Klauzál Gábor Budafok-Tétényi Művelődési központ - ECPv6.15.18//NONSGML v1.0//EN
CALSCALE:GREGORIAN
METHOD:PUBLISH
X-ORIGINAL-URL:https://klauzalhaz.hu
X-WR-CALDESC:Események Klauzál Gábor Budafok-Tétényi Művelődési központ
REFRESH-INTERVAL;VALUE=DURATION:PT1H
X-Robots-Tag:noindex
X-PUBLISHED-TTL:PT1H
BEGIN:VTIMEZONE
TZID:Europe/Budapest
BEGIN:DAYLIGHT
TZOFFSETFROM:+0100
TZOFFSETTO:+0200
TZNAME:CEST
DTSTART:20250330T010000
END:DAYLIGHT
BEGIN:STANDARD
TZOFFSETFROM:+0200
TZOFFSETTO:+0100
TZNAME:CET
DTSTART:20251026T010000
END:STANDARD
BEGIN:DAYLIGHT
TZOFFSETFROM:+0100
TZOFFSETTO:+0200
TZNAME:CEST
DTSTART:20260329T010000
END:DAYLIGHT
BEGIN:STANDARD
TZOFFSETFROM:+0200
TZOFFSETTO:+0100
TZNAME:CET
DTSTART:20261025T010000
END:STANDARD
BEGIN:DAYLIGHT
TZOFFSETFROM:+0100
TZOFFSETTO:+0200
TZNAME:CEST
DTSTART:20270328T010000
END:DAYLIGHT
BEGIN:STANDARD
TZOFFSETFROM:+0200
TZOFFSETTO:+0100
TZNAME:CET
DTSTART:20271031T010000
END:STANDARD
END:VTIMEZONE
BEGIN:VEVENT
DTSTART;VALUE=DATE:20260509
DTEND;VALUE=DATE:20260510
DTSTAMP:20260420T132604
CREATED:20260327T160421Z
LAST-MODIFIED:20260327T160547Z
UID:10013572-1778284800-1778371199@klauzalhaz.hu
SUMMARY:Budapest 100 programok és nyitott házak Budafokon
DESCRIPTION:május 9. szombat\nBudapest 100 programok és nyitott házak Budafokon \nVezetett épületlátogatások a Budafoki Városházán\nAz épületsétákat Garbóci László\, helytörténész vezeti.\nA csoportok 9 és 10 órakor indulnak\, maximum 25 fő részvételével.\nSétáinkat kizárólag előzetes regisztrációval lehet látogatni! Regisztrálni az info@magdolnaudvar.hu címen lehet\, az időpont megjelölésével és a regisztrálni kívántak pontos számával. \nNyílt nap a Budafoki Református Templomban\nA templomban 15-17 óra között Szász Lajos református lelkész várja a látogatókat. 17 órakor a Mozart Ifjúsági Zenekar tart koncertet. \nNyílt nap a Soós István Borászati Szakközépiskolában\nKovács Zsuzsanna vezetésével bejárhatja az épület összes zugát\, és érdekes történetekkel ismerhet meg.\nA csoportok 15\, 16\, 17 és 18 órakor indulnak.\nA részvétel regisztrációhoz kötött\, regisztrálni a titkarsag@borasziskola.hu e-mail címen\, a látogatás időpontjának megjelölésével lehet.
URL:https://klauzalhaz.hu/esemeny/budapest-100-programok-es-nyitott-hazak-budafokon/
LOCATION:Budapest-Budafoki Református Egyházközség\, Demjén István u. 2.\, Budapest\, 1221\, Hungary
CATEGORIES:Ismeretterjesztés,Programajánló,Programok,Tavaszi Fesztivál 2026
ATTACH;FMTTYPE=image/jpeg:https://klauzalhaz.hu/wp-content/uploads/2026/03/Budapest_100_1080.jpg
END:VEVENT
END:VCALENDAR