BEGIN:VCALENDAR
VERSION:2.0
PRODID:-//Klauzál Gábor Budafok-Tétényi Művelődési központ - ECPv6.15.18//NONSGML v1.0//EN
CALSCALE:GREGORIAN
METHOD:PUBLISH
X-WR-CALNAME:Klauzál Gábor Budafok-Tétényi Művelődési központ
X-ORIGINAL-URL:https://klauzalhaz.hu
X-WR-CALDESC:Események Klauzál Gábor Budafok-Tétényi Művelődési központ
REFRESH-INTERVAL;VALUE=DURATION:PT1H
X-Robots-Tag:noindex
X-PUBLISHED-TTL:PT1H
BEGIN:VTIMEZONE
TZID:Europe/Budapest
BEGIN:DAYLIGHT
TZOFFSETFROM:+0100
TZOFFSETTO:+0200
TZNAME:CEST
DTSTART:20250330T010000
END:DAYLIGHT
BEGIN:STANDARD
TZOFFSETFROM:+0200
TZOFFSETTO:+0100
TZNAME:CET
DTSTART:20251026T010000
END:STANDARD
BEGIN:DAYLIGHT
TZOFFSETFROM:+0100
TZOFFSETTO:+0200
TZNAME:CEST
DTSTART:20260329T010000
END:DAYLIGHT
BEGIN:STANDARD
TZOFFSETFROM:+0200
TZOFFSETTO:+0100
TZNAME:CET
DTSTART:20261025T010000
END:STANDARD
BEGIN:DAYLIGHT
TZOFFSETFROM:+0100
TZOFFSETTO:+0200
TZNAME:CEST
DTSTART:20270328T010000
END:DAYLIGHT
BEGIN:STANDARD
TZOFFSETFROM:+0200
TZOFFSETTO:+0100
TZNAME:CET
DTSTART:20271031T010000
END:STANDARD
END:VTIMEZONE
BEGIN:VEVENT
DTSTART;TZID=Europe/Budapest:20260310T093000
DTEND;TZID=Europe/Budapest:20260619T101500
DTSTAMP:20260420T143449
CREATED:20260311T084039Z
LAST-MODIFIED:20260311T084039Z
UID:10010434-1773135000-1781864100@klauzalhaz.hu
SUMMARY:Kerekítő
DESCRIPTION:Kerekítő (0-3 év) \nPéntek 9.30 – 10.15 és 10.15 – 11.00 \nA foglalkozásokon középpontban az ölbéli játékok. Bizalom\, érintések és önfeledt nevetés. \nFoglalkozásvezető: Dulai Rita\n+36-20-5607987\nrita.dulai6@gmail.com\nwww.kerekito.hu
URL:https://klauzalhaz.hu/esemeny/kerekito-3/2026-03-10/
LOCATION:Klauzál Gábor Művelődési Központ\, Nagytétényi út 31-33\, Budapest\, 1222\, Hungary
ATTACH;FMTTYPE=image/jpeg:https://klauzalhaz.hu/wp-content/uploads/2025/02/kerekito-babafok-2png.jpg
END:VEVENT
BEGIN:VEVENT
DTSTART;TZID=Europe/Budapest:20260317T093000
DTEND;TZID=Europe/Budapest:20260626T101500
DTSTAMP:20260420T143449
CREATED:20260311T084039Z
LAST-MODIFIED:20260311T084039Z
UID:10010435-1773739800-1782468900@klauzalhaz.hu
SUMMARY:Kerekítő
DESCRIPTION:Kerekítő (0-3 év) \nPéntek 9.30 – 10.15 és 10.15 – 11.00 \nA foglalkozásokon középpontban az ölbéli játékok. Bizalom\, érintések és önfeledt nevetés. \nFoglalkozásvezető: Dulai Rita\n+36-20-5607987\nrita.dulai6@gmail.com\nwww.kerekito.hu
URL:https://klauzalhaz.hu/esemeny/kerekito-3/2026-03-17/
LOCATION:Klauzál Gábor Művelődési Központ\, Nagytétényi út 31-33\, Budapest\, 1222\, Hungary
ATTACH;FMTTYPE=image/jpeg:https://klauzalhaz.hu/wp-content/uploads/2025/02/kerekito-babafok-2png.jpg
END:VEVENT
BEGIN:VEVENT
DTSTART;TZID=Europe/Budapest:20260324T093000
DTEND;TZID=Europe/Budapest:20260703T101500
DTSTAMP:20260420T143449
CREATED:20260311T084039Z
LAST-MODIFIED:20260311T084039Z
UID:10010436-1774344600-1783073700@klauzalhaz.hu
SUMMARY:Kerekítő
DESCRIPTION:Kerekítő (0-3 év) \nPéntek 9.30 – 10.15 és 10.15 – 11.00 \nA foglalkozásokon középpontban az ölbéli játékok. Bizalom\, érintések és önfeledt nevetés. \nFoglalkozásvezető: Dulai Rita\n+36-20-5607987\nrita.dulai6@gmail.com\nwww.kerekito.hu
URL:https://klauzalhaz.hu/esemeny/kerekito-3/2026-03-24/
LOCATION:Klauzál Gábor Művelődési Központ\, Nagytétényi út 31-33\, Budapest\, 1222\, Hungary
ATTACH;FMTTYPE=image/jpeg:https://klauzalhaz.hu/wp-content/uploads/2025/02/kerekito-babafok-2png.jpg
END:VEVENT
BEGIN:VEVENT
DTSTART;TZID=Europe/Budapest:20260331T093000
DTEND;TZID=Europe/Budapest:20260710T091500
DTSTAMP:20260420T143449
CREATED:20260311T084039Z
LAST-MODIFIED:20260311T084039Z
UID:10010437-1774949400-1783674900@klauzalhaz.hu
SUMMARY:Kerekítő
DESCRIPTION:Kerekítő (0-3 év) \nPéntek 9.30 – 10.15 és 10.15 – 11.00 \nA foglalkozásokon középpontban az ölbéli játékok. Bizalom\, érintések és önfeledt nevetés. \nFoglalkozásvezető: Dulai Rita\n+36-20-5607987\nrita.dulai6@gmail.com\nwww.kerekito.hu
URL:https://klauzalhaz.hu/esemeny/kerekito-3/2026-03-31/
LOCATION:Klauzál Gábor Művelődési Központ\, Nagytétényi út 31-33\, Budapest\, 1222\, Hungary
ATTACH;FMTTYPE=image/jpeg:https://klauzalhaz.hu/wp-content/uploads/2025/02/kerekito-babafok-2png.jpg
END:VEVENT
BEGIN:VEVENT
DTSTART;TZID=Europe/Budapest:20260407T093000
DTEND;TZID=Europe/Budapest:20260717T091500
DTSTAMP:20260420T143449
CREATED:20260311T084039Z
LAST-MODIFIED:20260311T084039Z
UID:10010438-1775554200-1784279700@klauzalhaz.hu
SUMMARY:Kerekítő
DESCRIPTION:Kerekítő (0-3 év) \nPéntek 9.30 – 10.15 és 10.15 – 11.00 \nA foglalkozásokon középpontban az ölbéli játékok. Bizalom\, érintések és önfeledt nevetés. \nFoglalkozásvezető: Dulai Rita\n+36-20-5607987\nrita.dulai6@gmail.com\nwww.kerekito.hu
URL:https://klauzalhaz.hu/esemeny/kerekito-3/2026-04-07/
LOCATION:Klauzál Gábor Művelődési Központ\, Nagytétényi út 31-33\, Budapest\, 1222\, Hungary
ATTACH;FMTTYPE=image/jpeg:https://klauzalhaz.hu/wp-content/uploads/2025/02/kerekito-babafok-2png.jpg
END:VEVENT
BEGIN:VEVENT
DTSTART;TZID=Europe/Budapest:20260414T093000
DTEND;TZID=Europe/Budapest:20260724T091500
DTSTAMP:20260420T143449
CREATED:20260311T084039Z
LAST-MODIFIED:20260311T084039Z
UID:10010439-1776159000-1784884500@klauzalhaz.hu
SUMMARY:Kerekítő
DESCRIPTION:Kerekítő (0-3 év) \nPéntek 9.30 – 10.15 és 10.15 – 11.00 \nA foglalkozásokon középpontban az ölbéli játékok. Bizalom\, érintések és önfeledt nevetés. \nFoglalkozásvezető: Dulai Rita\n+36-20-5607987\nrita.dulai6@gmail.com\nwww.kerekito.hu
URL:https://klauzalhaz.hu/esemeny/kerekito-3/2026-04-14/
LOCATION:Klauzál Gábor Művelődési Központ\, Nagytétényi út 31-33\, Budapest\, 1222\, Hungary
ATTACH;FMTTYPE=image/jpeg:https://klauzalhaz.hu/wp-content/uploads/2025/02/kerekito-babafok-2png.jpg
END:VEVENT
BEGIN:VEVENT
DTSTART;TZID=Europe/Budapest:20260421T093000
DTEND;TZID=Europe/Budapest:20260731T091500
DTSTAMP:20260420T143449
CREATED:20260311T084039Z
LAST-MODIFIED:20260311T084039Z
UID:10010440-1776763800-1785489300@klauzalhaz.hu
SUMMARY:Kerekítő
DESCRIPTION:Kerekítő (0-3 év) \nPéntek 9.30 – 10.15 és 10.15 – 11.00 \nA foglalkozásokon középpontban az ölbéli játékok. Bizalom\, érintések és önfeledt nevetés. \nFoglalkozásvezető: Dulai Rita\n+36-20-5607987\nrita.dulai6@gmail.com\nwww.kerekito.hu
URL:https://klauzalhaz.hu/esemeny/kerekito-3/2026-04-21/
LOCATION:Klauzál Gábor Művelődési Központ\, Nagytétényi út 31-33\, Budapest\, 1222\, Hungary
ATTACH;FMTTYPE=image/jpeg:https://klauzalhaz.hu/wp-content/uploads/2025/02/kerekito-babafok-2png.jpg
END:VEVENT
BEGIN:VEVENT
DTSTART;TZID=Europe/Budapest:20260428T093000
DTEND;TZID=Europe/Budapest:20260807T091500
DTSTAMP:20260420T143449
CREATED:20260311T084039Z
LAST-MODIFIED:20260311T084039Z
UID:10010441-1777368600-1786094100@klauzalhaz.hu
SUMMARY:Kerekítő
DESCRIPTION:Kerekítő (0-3 év) \nPéntek 9.30 – 10.15 és 10.15 – 11.00 \nA foglalkozásokon középpontban az ölbéli játékok. Bizalom\, érintések és önfeledt nevetés. \nFoglalkozásvezető: Dulai Rita\n+36-20-5607987\nrita.dulai6@gmail.com\nwww.kerekito.hu
URL:https://klauzalhaz.hu/esemeny/kerekito-3/2026-04-28/
LOCATION:Klauzál Gábor Művelődési Központ\, Nagytétényi út 31-33\, Budapest\, 1222\, Hungary
ATTACH;FMTTYPE=image/jpeg:https://klauzalhaz.hu/wp-content/uploads/2025/02/kerekito-babafok-2png.jpg
END:VEVENT
BEGIN:VEVENT
DTSTART;TZID=Europe/Budapest:20260505T093000
DTEND;TZID=Europe/Budapest:20260814T091500
DTSTAMP:20260420T143449
CREATED:20260311T084039Z
LAST-MODIFIED:20260311T084039Z
UID:10010442-1777973400-1786698900@klauzalhaz.hu
SUMMARY:Kerekítő
DESCRIPTION:Kerekítő (0-3 év) \nPéntek 9.30 – 10.15 és 10.15 – 11.00 \nA foglalkozásokon középpontban az ölbéli játékok. Bizalom\, érintések és önfeledt nevetés. \nFoglalkozásvezető: Dulai Rita\n+36-20-5607987\nrita.dulai6@gmail.com\nwww.kerekito.hu
URL:https://klauzalhaz.hu/esemeny/kerekito-3/2026-05-05/
LOCATION:Klauzál Gábor Művelődési Központ\, Nagytétényi út 31-33\, Budapest\, 1222\, Hungary
ATTACH;FMTTYPE=image/jpeg:https://klauzalhaz.hu/wp-content/uploads/2025/02/kerekito-babafok-2png.jpg
END:VEVENT
BEGIN:VEVENT
DTSTART;TZID=Europe/Budapest:20260512T093000
DTEND;TZID=Europe/Budapest:20260821T091500
DTSTAMP:20260420T143449
CREATED:20260311T084039Z
LAST-MODIFIED:20260311T084039Z
UID:10010443-1778578200-1787303700@klauzalhaz.hu
SUMMARY:Kerekítő
DESCRIPTION:Kerekítő (0-3 év) \nPéntek 9.30 – 10.15 és 10.15 – 11.00 \nA foglalkozásokon középpontban az ölbéli játékok. Bizalom\, érintések és önfeledt nevetés. \nFoglalkozásvezető: Dulai Rita\n+36-20-5607987\nrita.dulai6@gmail.com\nwww.kerekito.hu
URL:https://klauzalhaz.hu/esemeny/kerekito-3/2026-05-12/
LOCATION:Klauzál Gábor Művelődési Központ\, Nagytétényi út 31-33\, Budapest\, 1222\, Hungary
ATTACH;FMTTYPE=image/jpeg:https://klauzalhaz.hu/wp-content/uploads/2025/02/kerekito-babafok-2png.jpg
END:VEVENT
BEGIN:VEVENT
DTSTART;TZID=Europe/Budapest:20260519T093000
DTEND;TZID=Europe/Budapest:20260828T091500
DTSTAMP:20260420T143449
CREATED:20260311T084039Z
LAST-MODIFIED:20260311T084039Z
UID:10010444-1779183000-1787908500@klauzalhaz.hu
SUMMARY:Kerekítő
DESCRIPTION:Kerekítő (0-3 év) \nPéntek 9.30 – 10.15 és 10.15 – 11.00 \nA foglalkozásokon középpontban az ölbéli játékok. Bizalom\, érintések és önfeledt nevetés. \nFoglalkozásvezető: Dulai Rita\n+36-20-5607987\nrita.dulai6@gmail.com\nwww.kerekito.hu
URL:https://klauzalhaz.hu/esemeny/kerekito-3/2026-05-19/
LOCATION:Klauzál Gábor Művelődési Központ\, Nagytétényi út 31-33\, Budapest\, 1222\, Hungary
ATTACH;FMTTYPE=image/jpeg:https://klauzalhaz.hu/wp-content/uploads/2025/02/kerekito-babafok-2png.jpg
END:VEVENT
BEGIN:VEVENT
DTSTART;TZID=Europe/Budapest:20260526T093000
DTEND;TZID=Europe/Budapest:20260904T091500
DTSTAMP:20260420T143449
CREATED:20260311T084039Z
LAST-MODIFIED:20260311T084039Z
UID:10010445-1779787800-1788513300@klauzalhaz.hu
SUMMARY:Kerekítő
DESCRIPTION:Kerekítő (0-3 év) \nPéntek 9.30 – 10.15 és 10.15 – 11.00 \nA foglalkozásokon középpontban az ölbéli játékok. Bizalom\, érintések és önfeledt nevetés. \nFoglalkozásvezető: Dulai Rita\n+36-20-5607987\nrita.dulai6@gmail.com\nwww.kerekito.hu
URL:https://klauzalhaz.hu/esemeny/kerekito-3/2026-05-26/
LOCATION:Klauzál Gábor Művelődési Központ\, Nagytétényi út 31-33\, Budapest\, 1222\, Hungary
ATTACH;FMTTYPE=image/jpeg:https://klauzalhaz.hu/wp-content/uploads/2025/02/kerekito-babafok-2png.jpg
END:VEVENT
BEGIN:VEVENT
DTSTART;TZID=Europe/Budapest:20260602T093000
DTEND;TZID=Europe/Budapest:20260911T091500
DTSTAMP:20260420T143449
CREATED:20260311T084039Z
LAST-MODIFIED:20260311T084039Z
UID:10010446-1780392600-1789118100@klauzalhaz.hu
SUMMARY:Kerekítő
DESCRIPTION:Kerekítő (0-3 év) \nPéntek 9.30 – 10.15 és 10.15 – 11.00 \nA foglalkozásokon középpontban az ölbéli játékok. Bizalom\, érintések és önfeledt nevetés. \nFoglalkozásvezető: Dulai Rita\n+36-20-5607987\nrita.dulai6@gmail.com\nwww.kerekito.hu
URL:https://klauzalhaz.hu/esemeny/kerekito-3/2026-06-02/
LOCATION:Klauzál Gábor Művelődési Központ\, Nagytétényi út 31-33\, Budapest\, 1222\, Hungary
ATTACH;FMTTYPE=image/jpeg:https://klauzalhaz.hu/wp-content/uploads/2025/02/kerekito-babafok-2png.jpg
END:VEVENT
BEGIN:VEVENT
DTSTART;TZID=Europe/Budapest:20260609T093000
DTEND;TZID=Europe/Budapest:20260918T091500
DTSTAMP:20260420T143449
CREATED:20260311T084039Z
LAST-MODIFIED:20260311T084039Z
UID:10010447-1780997400-1789722900@klauzalhaz.hu
SUMMARY:Kerekítő
DESCRIPTION:Kerekítő (0-3 év) \nPéntek 9.30 – 10.15 és 10.15 – 11.00 \nA foglalkozásokon középpontban az ölbéli játékok. Bizalom\, érintések és önfeledt nevetés. \nFoglalkozásvezető: Dulai Rita\n+36-20-5607987\nrita.dulai6@gmail.com\nwww.kerekito.hu
URL:https://klauzalhaz.hu/esemeny/kerekito-3/2026-06-09/
LOCATION:Klauzál Gábor Művelődési Központ\, Nagytétényi út 31-33\, Budapest\, 1222\, Hungary
ATTACH;FMTTYPE=image/jpeg:https://klauzalhaz.hu/wp-content/uploads/2025/02/kerekito-babafok-2png.jpg
END:VEVENT
BEGIN:VEVENT
DTSTART;TZID=Europe/Budapest:20260616T093000
DTEND;TZID=Europe/Budapest:20260925T091500
DTSTAMP:20260420T143449
CREATED:20260311T084039Z
LAST-MODIFIED:20260311T084039Z
UID:10010448-1781602200-1790327700@klauzalhaz.hu
SUMMARY:Kerekítő
DESCRIPTION:Kerekítő (0-3 év) \nPéntek 9.30 – 10.15 és 10.15 – 11.00 \nA foglalkozásokon középpontban az ölbéli játékok. Bizalom\, érintések és önfeledt nevetés. \nFoglalkozásvezető: Dulai Rita\n+36-20-5607987\nrita.dulai6@gmail.com\nwww.kerekito.hu
URL:https://klauzalhaz.hu/esemeny/kerekito-3/2026-06-16/
LOCATION:Klauzál Gábor Művelődési Központ\, Nagytétényi út 31-33\, Budapest\, 1222\, Hungary
ATTACH;FMTTYPE=image/jpeg:https://klauzalhaz.hu/wp-content/uploads/2025/02/kerekito-babafok-2png.jpg
END:VEVENT
END:VCALENDAR