BEGIN:VCALENDAR
VERSION:2.0
PRODID:-//Klauzál Gábor Budafok-Tétényi Művelődési központ - ECPv6.15.18//NONSGML v1.0//EN
CALSCALE:GREGORIAN
METHOD:PUBLISH
X-WR-CALNAME:Klauzál Gábor Budafok-Tétényi Művelődési központ
X-ORIGINAL-URL:https://klauzalhaz.hu
X-WR-CALDESC:Események Klauzál Gábor Budafok-Tétényi Művelődési központ
REFRESH-INTERVAL;VALUE=DURATION:PT1H
X-Robots-Tag:noindex
X-PUBLISHED-TTL:PT1H
BEGIN:VTIMEZONE
TZID:Europe/Budapest
BEGIN:DAYLIGHT
TZOFFSETFROM:+0100
TZOFFSETTO:+0200
TZNAME:CEST
DTSTART:20250330T010000
END:DAYLIGHT
BEGIN:STANDARD
TZOFFSETFROM:+0200
TZOFFSETTO:+0100
TZNAME:CET
DTSTART:20251026T010000
END:STANDARD
BEGIN:DAYLIGHT
TZOFFSETFROM:+0100
TZOFFSETTO:+0200
TZNAME:CEST
DTSTART:20260329T010000
END:DAYLIGHT
BEGIN:STANDARD
TZOFFSETFROM:+0200
TZOFFSETTO:+0100
TZNAME:CET
DTSTART:20261025T010000
END:STANDARD
BEGIN:DAYLIGHT
TZOFFSETFROM:+0100
TZOFFSETTO:+0200
TZNAME:CEST
DTSTART:20270328T010000
END:DAYLIGHT
BEGIN:STANDARD
TZOFFSETFROM:+0200
TZOFFSETTO:+0100
TZNAME:CET
DTSTART:20271031T010000
END:STANDARD
END:VTIMEZONE
BEGIN:VEVENT
DTSTART;TZID=Europe/Budapest:20260515T100000
DTEND;TZID=Europe/Budapest:20260515T110000
DTSTAMP:20260421T120748
CREATED:20260309T155333Z
LAST-MODIFIED:20260309T155333Z
UID:9226-1778839200-1778842800@klauzalhaz.hu
SUMMARY:„Zümmögő Barátaink” – Méhek Világnapja a kicsikkel és Zseni kutyával
DESCRIPTION:május 15. péntek 10:00\n„Zümmögő Barátaink” – Méhek Világnapja a kicsikkel \nMájus 20-án tartjuk a Méhek Világnapját\, amelynek célja\, hogy felhívjuk a figyelmet a méhek és más beporzók nélkülözhetetlen szerepére a természetben. A méhek segítik a virágokat növekedni\, a gyümölcsöket érni\, és fontos részei az egészséges élővilágnak. A gyermeke számára ez a nap játékos lehetőséget ad arra\, hogy megismerjék a méhek életét\, hangját\, munkáját és azt\, miért kell vigyáznunk ezekre az apró\, szorgalmas lényekre.\nMesemondóink: A XXII. kerületi Egyesített Bölcsőde kisgyermeknevelői\, Lorenczné Szaniszló Cintia és Molnár Enikő élőszóval\, bábokkal és hangutánzással kelti életre az erdő történeteit. \nKutyás foglalkozás\nFoglalkozásvezető: Móróné Horváth Aliz\, a XXII. kerületi Egyesített Bölcsőde intézményvezető-helyettes\nKutya felvezetője: Kardalus Judit\, Azúr Segítőkutyás Egyesület \nKreatív foglalkozások:\n–„Méhecske tojástartóból”\n– „Virágos rét” – ujjal festett közös kép\n– „Mézescsupor” készítése \nA belépés díjtalan. Regisztráció: babafok@klauzalhaz.hu\nZseni kutyus nagyon örülne\, ha hoznál neki egy tasak jutalomfalatot!    \nMegosztom:
URL:https://klauzalhaz.hu/esemeny/zummogo-barataink-mehek-vilagnapja-a-kicsikkel-es-zseni-kutyaval/
LOCATION:Klauzál Gábor Művelődési Központ\, Nagytétényi út 31-33\, Budapest\, 1222\, Hungary
CATEGORIES:BabaFok,Programok
ATTACH;FMTTYPE=image/jpeg:https://klauzalhaz.hu/wp-content/uploads/2026/03/zummogo-barataink-scaled.jpg
END:VEVENT
END:VCALENDAR