BEGIN:VCALENDAR
VERSION:2.0
PRODID:-//Klauzál Gábor Budafok-Tétényi Művelődési központ - ECPv6.15.18//NONSGML v1.0//EN
CALSCALE:GREGORIAN
METHOD:PUBLISH
X-WR-CALNAME:Klauzál Gábor Budafok-Tétényi Művelődési központ
X-ORIGINAL-URL:https://klauzalhaz.hu
X-WR-CALDESC:Események Klauzál Gábor Budafok-Tétényi Művelődési központ
REFRESH-INTERVAL;VALUE=DURATION:PT1H
X-Robots-Tag:noindex
X-PUBLISHED-TTL:PT1H
BEGIN:VTIMEZONE
TZID:Europe/Budapest
BEGIN:DAYLIGHT
TZOFFSETFROM:+0100
TZOFFSETTO:+0200
TZNAME:CEST
DTSTART:20250330T010000
END:DAYLIGHT
BEGIN:STANDARD
TZOFFSETFROM:+0200
TZOFFSETTO:+0100
TZNAME:CET
DTSTART:20251026T010000
END:STANDARD
BEGIN:DAYLIGHT
TZOFFSETFROM:+0100
TZOFFSETTO:+0200
TZNAME:CEST
DTSTART:20260329T010000
END:DAYLIGHT
BEGIN:STANDARD
TZOFFSETFROM:+0200
TZOFFSETTO:+0100
TZNAME:CET
DTSTART:20261025T010000
END:STANDARD
BEGIN:DAYLIGHT
TZOFFSETFROM:+0100
TZOFFSETTO:+0200
TZNAME:CEST
DTSTART:20270328T010000
END:DAYLIGHT
BEGIN:STANDARD
TZOFFSETFROM:+0200
TZOFFSETTO:+0100
TZNAME:CET
DTSTART:20271031T010000
END:STANDARD
END:VTIMEZONE
BEGIN:VEVENT
DTSTART;TZID=Europe/Budapest:20260510T180000
DTEND;TZID=Europe/Budapest:20260510T190000
DTSTAMP:20260420T175330
CREATED:20260313T101845Z
LAST-MODIFIED:20260318T152958Z
UID:9488-1778436000-1778439600@klauzalhaz.hu
SUMMARY:YumeDon Taiko japándob koncert
DESCRIPTION:夢どん 太鼓 \nA YumeDon Taiko Stúdió előadásán több mint húsz dob szólal meg a színpadon.\nA koncerten hagyományos japán taiko darabok és kortárs japán és európai\, sőt hazai szerzők darabjaival ismerkedhet meg a közönség egy látványos\, nem mindennapi előadás keretében.\nA Magyarországon is\, egyre népszerűbb műfaj titka a sodró lendület\, a különleges hangulat és a dobok lüktetéséből áradó energia\, mely mindig magával ragadja a közönséget. \nA Japándobolás neve: Taiko („kövér dob”)\, ami utalás a dobok méretére\, formájára. Ez a zenei stílus nem is olyan régi\, a múltszázad közepén alkotta meg egy japán dzsessz dobos\, Daihachi Oguchi\, aki gyönyörű\, tradicionális japán hangszerekre írt modern\, fülbemászó darabokat. Japánban évszázadokon át használtak ilyen dobokat a csatamezőkön harci dobként\, de egymás közötti kommunikációra\, ünnepek alkalmával szórakoztatásra\, illetve a shinto és buddhista szentélyek szertartásain is. A Taiko nem csak zene\, hanem sportos elfoglaltság\, kikapcsolódás\, életforma\, egy földrajzi és egy belső utazás\, amely feltölt\, gyarapít\, és meggyőződésünk szerint segít jobbá tenni a világot! \nJEGYEKÉRT KATTINTS! \nMegosztom:
URL:https://klauzalhaz.hu/esemeny/yomedon-taiko-japandob-koncert-2/
LOCATION:Klauzál Gábor Művelődési Központ\, Nagytétényi út 31-33\, Budapest\, 1222\, Hungary
CATEGORIES:Koncert,Programajánló
ATTACH;FMTTYPE=image/jpeg:https://klauzalhaz.hu/wp-content/uploads/2026/03/YouMed__1080_10804.jpg
END:VEVENT
END:VCALENDAR