BEGIN:VCALENDAR
VERSION:2.0
PRODID:-//Klauzál Gábor Budafok-Tétényi Művelődési központ - ECPv6.15.18//NONSGML v1.0//EN
CALSCALE:GREGORIAN
METHOD:PUBLISH
X-WR-CALNAME:Klauzál Gábor Budafok-Tétényi Művelődési központ
X-ORIGINAL-URL:https://klauzalhaz.hu
X-WR-CALDESC:Események Klauzál Gábor Budafok-Tétényi Művelődési központ
REFRESH-INTERVAL;VALUE=DURATION:PT1H
X-Robots-Tag:noindex
X-PUBLISHED-TTL:PT1H
BEGIN:VTIMEZONE
TZID:Europe/Budapest
BEGIN:DAYLIGHT
TZOFFSETFROM:+0100
TZOFFSETTO:+0200
TZNAME:CEST
DTSTART:20250330T010000
END:DAYLIGHT
BEGIN:STANDARD
TZOFFSETFROM:+0200
TZOFFSETTO:+0100
TZNAME:CET
DTSTART:20251026T010000
END:STANDARD
BEGIN:DAYLIGHT
TZOFFSETFROM:+0100
TZOFFSETTO:+0200
TZNAME:CEST
DTSTART:20260329T010000
END:DAYLIGHT
BEGIN:STANDARD
TZOFFSETFROM:+0200
TZOFFSETTO:+0100
TZNAME:CET
DTSTART:20261025T010000
END:STANDARD
BEGIN:DAYLIGHT
TZOFFSETFROM:+0100
TZOFFSETTO:+0200
TZNAME:CEST
DTSTART:20270328T010000
END:DAYLIGHT
BEGIN:STANDARD
TZOFFSETFROM:+0200
TZOFFSETTO:+0100
TZNAME:CET
DTSTART:20271031T010000
END:STANDARD
END:VTIMEZONE
BEGIN:VEVENT
DTSTART;TZID=Europe/Budapest:20260522T170000
DTEND;TZID=Europe/Budapest:20260522T180000
DTSTAMP:20260421T055200
CREATED:20260327T163837Z
LAST-MODIFIED:20260327T163837Z
UID:9714-1779469200-1779472800@klauzalhaz.hu
SUMMARY:Nagy Mihály: Nyugaton kelt a Nap című történelmi regényének bemutatója
DESCRIPTION:május 22. péntek 17.00\nNagy Mihály: Nyugaton kelt a Nap című történelmi regényének bemutatója \nA szerző régész\, a Seuso-kincs egyik legelismertebb hazai szakértője\, ezúttal a szépirodalom eszközeivel kelti életre a későrómai kor feszültségekkel teli világát. A regény Nagy Konstantin császár korába kalauzolja az olvasót – egy olyan korszakba\, ahol a régi istenek kultusza és a felemelkedő kereszténység\, a birodalmi pompa és a barbár betörések fenyegetése egyszerre volt jelen.\nBeszélgetőtársa Mráv Zsolt régész-muzeológus. A két szakember dialógusa garantálja\, hogy a regény fiktív szálai mellett a legfrissebb kutatási eredmények és a korszak hiteles tárgyi kultúrája is megelevenedjen a hallgatóság előtt. \nA részvétel díjtalan.\nBővebb információ: https://www.facebook.com/camponavictrix \nSzervező: MNMKK MNM Campona Victrix Régészeti Kiállítóhely \nMegosztom:
URL:https://klauzalhaz.hu/esemeny/nagy-mihaly-nyugaton-kelt-a-nap-cimu-tortenelmi-regenyenek-bemutatoja/
LOCATION:MNMKK MNM Campona Victrix Régészeti Kiállítóhely\, Szent Flórián tér\, Budapest\, 1225\, Hungary
CATEGORIES:Ismeretterjesztés,Programajánló,Programok,Tavaszi Fesztivál 2026
ATTACH;FMTTYPE=image/jpeg:https://klauzalhaz.hu/wp-content/uploads/2026/03/Nagy-Mihaly-Nyugaton-kelt-a-Nap_1080.jpg
END:VEVENT
END:VCALENDAR