BEGIN:VCALENDAR
VERSION:2.0
PRODID:-//Klauzál Gábor Budafok-Tétényi Művelődési központ - ECPv6.15.18//NONSGML v1.0//EN
CALSCALE:GREGORIAN
METHOD:PUBLISH
X-WR-CALNAME:Klauzál Gábor Budafok-Tétényi Művelődési központ
X-ORIGINAL-URL:https://klauzalhaz.hu
X-WR-CALDESC:Események Klauzál Gábor Budafok-Tétényi Művelődési központ
REFRESH-INTERVAL;VALUE=DURATION:PT1H
X-Robots-Tag:noindex
X-PUBLISHED-TTL:PT1H
BEGIN:VTIMEZONE
TZID:Europe/Budapest
BEGIN:DAYLIGHT
TZOFFSETFROM:+0100
TZOFFSETTO:+0200
TZNAME:CEST
DTSTART:20250330T010000
END:DAYLIGHT
BEGIN:STANDARD
TZOFFSETFROM:+0200
TZOFFSETTO:+0100
TZNAME:CET
DTSTART:20251026T010000
END:STANDARD
BEGIN:DAYLIGHT
TZOFFSETFROM:+0100
TZOFFSETTO:+0200
TZNAME:CEST
DTSTART:20260329T010000
END:DAYLIGHT
BEGIN:STANDARD
TZOFFSETFROM:+0200
TZOFFSETTO:+0100
TZNAME:CET
DTSTART:20261025T010000
END:STANDARD
BEGIN:DAYLIGHT
TZOFFSETFROM:+0100
TZOFFSETTO:+0200
TZNAME:CEST
DTSTART:20270328T010000
END:DAYLIGHT
BEGIN:STANDARD
TZOFFSETFROM:+0200
TZOFFSETTO:+0100
TZNAME:CET
DTSTART:20271031T010000
END:STANDARD
END:VTIMEZONE
BEGIN:VEVENT
DTSTART;TZID=Europe/Budapest:20260318T150000
DTEND;TZID=Europe/Budapest:20260318T170000
DTSTAMP:20260420T123750
CREATED:20260202T115458Z
LAST-MODIFIED:20260202T115612Z
UID:8821-1773846000-1773853200@klauzalhaz.hu
SUMMARY:Múzeumlátogatás - Az első kínai császár agyagkatonái
DESCRIPTION:március 18. szerda 15.00\nAz öröklét őrei\nAz első kínai császár agyagkatonái\nA több mint egy évezredet átfogó kiállítás középpontjában a világ leghíresebb régészeti leleteinek egyike\, a kínai terrakotta hadsereg és az első kínai császár kora áll.\nA Kr.e. 210-ben elhunyt uralkodót városnyi méretű sírkertjében temették el\, amelynek építésén 33 éven át többszázezren dolgoztak. A sírkomplexum központi részében a Kínai Birodalom kicsinyített mását is felépítették. A Kína első császárának sírját őrző\, életnagyságú terrakotta katonákat felvonultató hadsereg figuráiból tíz eredeti példányt állítottak ki.  Csin Si Huang-ti az öröklét titkát kutatta\, aminek különösen szép tárgyai\, a túlvilágra vivő lovaskocsik is bekerültek a kiállítás anyagába. Betekinthetünk a nyugati hódítások és a Selyemút kereskedelmébe\, a birodalom mindennapi működésébe is.\nA kiállítást tárlatvezetéssel tekintjük meg. \nTalálkozó: A Szépművészeti Múzeum (Budapest\, XIV. Dózsa György út 41. – Hősök tere) bejárata előtt (a lépcső tetején) 15.00 órakor\nRészvételi díj (a tárlatvezetés díjával): 7500 Ft\, 62-70 éveseknek 4800 Ft\, 70 év felettieknek 1400 Ft. (A belépőjeggyel a múzeum állandó kiállításai díjtalanul megtekinthetők.)\nJelentkezni a részvételi díj egyidejű befizetésével a Klauzál Ház recepciós pultjánál lehet\, hétköznaponként 10-19 óráig.  \nMegosztom:
URL:https://klauzalhaz.hu/esemeny/muzeumlatogatas-az-elso-kinai-csaszar-agyagkatonai/
LOCATION:Klauzál Gábor Művelődési Központ\, Nagytétényi út 31-33\, Budapest\, 1222\, Hungary
CATEGORIES:Ismeretterjesztés
ATTACH;FMTTYPE=image/jpeg:https://klauzalhaz.hu/wp-content/uploads/2026/02/oroklet-orzoi.jpg
END:VEVENT
END:VCALENDAR