BEGIN:VCALENDAR
VERSION:2.0
PRODID:-//Klauzál Gábor Budafok-Tétényi Művelődési központ - ECPv6.15.18//NONSGML v1.0//EN
CALSCALE:GREGORIAN
METHOD:PUBLISH
X-WR-CALNAME:Klauzál Gábor Budafok-Tétényi Művelődési központ
X-ORIGINAL-URL:https://klauzalhaz.hu
X-WR-CALDESC:Események Klauzál Gábor Budafok-Tétényi Művelődési központ
REFRESH-INTERVAL;VALUE=DURATION:PT1H
X-Robots-Tag:noindex
X-PUBLISHED-TTL:PT1H
BEGIN:VTIMEZONE
TZID:Europe/Budapest
BEGIN:DAYLIGHT
TZOFFSETFROM:+0100
TZOFFSETTO:+0200
TZNAME:CEST
DTSTART:20250330T010000
END:DAYLIGHT
BEGIN:STANDARD
TZOFFSETFROM:+0200
TZOFFSETTO:+0100
TZNAME:CET
DTSTART:20251026T010000
END:STANDARD
BEGIN:DAYLIGHT
TZOFFSETFROM:+0100
TZOFFSETTO:+0200
TZNAME:CEST
DTSTART:20260329T010000
END:DAYLIGHT
BEGIN:STANDARD
TZOFFSETFROM:+0200
TZOFFSETTO:+0100
TZNAME:CET
DTSTART:20261025T010000
END:STANDARD
BEGIN:DAYLIGHT
TZOFFSETFROM:+0100
TZOFFSETTO:+0200
TZNAME:CEST
DTSTART:20270328T010000
END:DAYLIGHT
BEGIN:STANDARD
TZOFFSETFROM:+0200
TZOFFSETTO:+0100
TZNAME:CET
DTSTART:20271031T010000
END:STANDARD
END:VTIMEZONE
BEGIN:VEVENT
DTSTART;TZID=Europe/Budapest:20260317T100000
DTEND;TZID=Europe/Budapest:20260317T110000
DTSTAMP:20260420T180506
CREATED:20251127T115026Z
LAST-MODIFIED:20251127T115026Z
UID:7767-1773741600-1773745200@klauzalhaz.hu
SUMMARY:Manócska színház - Frakk a macskák réme
DESCRIPTION:március 17. kedd 10.00\nFrakk a macskák réme – zenés mesejáték\nPesti Művész Színház előadása\nBálint Ágnes tüneményes meséje a kutya–macska barátságra épül. Irma néni és Károly bácsi két elkényeztetett cicájukkal\, Lukréciával és Szerénkével éli mindennapjait egy falusi házacskában. A két macska rendkívül lusta és szemtelen\, ezért Károly bácsi nem kedveli őket túlságosan. A gond akkor kezdődik\, amikor Lukrécia belefekszik Károly bácsi karosszékébe. Innentől kezdve Károly bácsi nagyon vágyik már egy harcias kutyára\, aki megnevelné a macskákat. Ekkor érkezik Frakk\, akit Károly bácsi egyik volt osztálytársától kap\, és aki rövid időn belül a macskák réme lesz.\nA történet fordulatokban gazdag\, kacagtató vidám\, és közben rendkívül tanulságos is\, minden korosztálynak felhőtlen szórakozást ígér.\nJegyár: 2500 Ft \nMegosztom:
URL:https://klauzalhaz.hu/esemeny/manocska-szinhaz-frakk-a-macskak-reme/
LOCATION:Klauzál Gábor Művelődési Központ\, Nagytétényi út 31-33\, Budapest\, 1222\, Hungary
CATEGORIES:Gyerekprogramok
ATTACH;FMTTYPE=image/jpeg:https://klauzalhaz.hu/wp-content/uploads/2025/11/Frakk-a-macskak-reme-manocska.jpg
END:VEVENT
END:VCALENDAR