BEGIN:VCALENDAR
VERSION:2.0
PRODID:-//Klauzál Gábor Budafok-Tétényi Művelődési központ - ECPv6.15.18//NONSGML v1.0//EN
CALSCALE:GREGORIAN
METHOD:PUBLISH
X-WR-CALNAME:Klauzál Gábor Budafok-Tétényi Művelődési központ
X-ORIGINAL-URL:https://klauzalhaz.hu
X-WR-CALDESC:Események Klauzál Gábor Budafok-Tétényi Művelődési központ
REFRESH-INTERVAL;VALUE=DURATION:PT1H
X-Robots-Tag:noindex
X-PUBLISHED-TTL:PT1H
BEGIN:VTIMEZONE
TZID:Europe/Budapest
BEGIN:DAYLIGHT
TZOFFSETFROM:+0100
TZOFFSETTO:+0200
TZNAME:CEST
DTSTART:20250330T010000
END:DAYLIGHT
BEGIN:STANDARD
TZOFFSETFROM:+0200
TZOFFSETTO:+0100
TZNAME:CET
DTSTART:20251026T010000
END:STANDARD
BEGIN:DAYLIGHT
TZOFFSETFROM:+0100
TZOFFSETTO:+0200
TZNAME:CEST
DTSTART:20260329T010000
END:DAYLIGHT
BEGIN:STANDARD
TZOFFSETFROM:+0200
TZOFFSETTO:+0100
TZNAME:CET
DTSTART:20261025T010000
END:STANDARD
BEGIN:DAYLIGHT
TZOFFSETFROM:+0100
TZOFFSETTO:+0200
TZNAME:CEST
DTSTART:20270328T010000
END:DAYLIGHT
BEGIN:STANDARD
TZOFFSETFROM:+0200
TZOFFSETTO:+0100
TZNAME:CET
DTSTART:20271031T010000
END:STANDARD
END:VTIMEZONE
BEGIN:VEVENT
DTSTART;TZID=Europe/Budapest:20260313T180000
DTEND;TZID=Europe/Budapest:20260407T200000
DTSTAMP:20260420T165003
CREATED:20260202T114907Z
LAST-MODIFIED:20260331T105717Z
UID:8814-1773424800-1775592000@klauzalhaz.hu
SUMMARY:Kugler Ferenc és Németh Gyula kiállítása
DESCRIPTION:március 13. péntek 18.00\nA Budafoki Fotóklub  – Kugler Ferenc és Németh Gyula kiállítása\nA természetközelség és a hétköznapi élet vizuális ábrázolása jelenik meg a két fotográfus alkotásaiban. A Budafoki Fotóklub munkái minden évben színesítik a Klauzál Ház kiállítóterét.\nA kiállítást megnyitja: Czimbal Gyula\, fotóművész\nKözreműködik: Kanyó Dávid\, fuvolaművész\nA kiállítás április 07-ig tekinthető meg. \nMegosztom:
URL:https://klauzalhaz.hu/esemeny/kugler-ferenc-es-nemeth-gyula-kiallitasa/
LOCATION:Klauzál Gábor Művelődési Központ\, Nagytétényi út 31-33\, Budapest\, 1222\, Hungary
CATEGORIES:Kiállítás
ATTACH;FMTTYPE=image/jpeg:https://klauzalhaz.hu/wp-content/uploads/2026/02/fotoklub1.jpg
END:VEVENT
END:VCALENDAR