BEGIN:VCALENDAR
VERSION:2.0
PRODID:-//Klauzál Gábor Budafok-Tétényi Művelődési központ - ECPv6.15.18//NONSGML v1.0//EN
CALSCALE:GREGORIAN
METHOD:PUBLISH
X-WR-CALNAME:Klauzál Gábor Budafok-Tétényi Művelődési központ
X-ORIGINAL-URL:https://klauzalhaz.hu
X-WR-CALDESC:Események Klauzál Gábor Budafok-Tétényi Művelődési központ
REFRESH-INTERVAL;VALUE=DURATION:PT1H
X-Robots-Tag:noindex
X-PUBLISHED-TTL:PT1H
BEGIN:VTIMEZONE
TZID:Europe/Budapest
BEGIN:DAYLIGHT
TZOFFSETFROM:+0100
TZOFFSETTO:+0200
TZNAME:CEST
DTSTART:20250330T010000
END:DAYLIGHT
BEGIN:STANDARD
TZOFFSETFROM:+0200
TZOFFSETTO:+0100
TZNAME:CET
DTSTART:20251026T010000
END:STANDARD
BEGIN:DAYLIGHT
TZOFFSETFROM:+0100
TZOFFSETTO:+0200
TZNAME:CEST
DTSTART:20260329T010000
END:DAYLIGHT
BEGIN:STANDARD
TZOFFSETFROM:+0200
TZOFFSETTO:+0100
TZNAME:CET
DTSTART:20261025T010000
END:STANDARD
BEGIN:DAYLIGHT
TZOFFSETFROM:+0100
TZOFFSETTO:+0200
TZNAME:CEST
DTSTART:20270328T010000
END:DAYLIGHT
BEGIN:STANDARD
TZOFFSETFROM:+0200
TZOFFSETTO:+0100
TZNAME:CET
DTSTART:20271031T010000
END:STANDARD
END:VTIMEZONE
BEGIN:VEVENT
DTSTART;TZID=Europe/Budapest:20260426T103000
DTEND;TZID=Europe/Budapest:20260426T113000
DTSTAMP:20260418T110431
CREATED:20260309T150158Z
LAST-MODIFIED:20260309T150158Z
UID:9201-1777199400-1777203000@klauzalhaz.hu
SUMMARY:Kikelet - bábelőadás
DESCRIPTION:2026 április 26. vasárnap 10:30\nKikelet bábelőadás \nMesecsokorba szedett dalos asztali bábjátékunk elhozza a napocska által előcsalogatott tavaszi virágok és az előbújó rovarok meséit: „A kíváncsi méhecske” és „A három pillangó” című meséjével hangolódunk együtt a tavaszra.\nA bábjáték után a gyerekekkel is eljátsszuk a mesét óriás pillangók segítségével.\nA bábelőadás időtartama 30 perc +15 perc élőjáték a gyerekek bevonásával\, éneklés\, zenélés\, bábsimogatás.\nAz Éliás Tóbiás Bábtársulat előadásában. \nJegyár: 2000 Ft/felnőtt\, BabaFok kártyával: 1000 Ft/felnőtt (gyerekeknek 0-6 éves kor között díjtalan).    \nMegosztom:
URL:https://klauzalhaz.hu/esemeny/kikelet-babeloadas/
LOCATION:Klauzál Gábor Művelődési Központ\, Nagytétényi út 31-33\, Budapest\, 1222\, Hungary
CATEGORIES:BabaFok,Programajánló,Programok
ATTACH;FMTTYPE=image/jpeg:https://klauzalhaz.hu/wp-content/uploads/2026/03/kikelet-elias-tobias-bab-kep.jpg
END:VEVENT
END:VCALENDAR