BEGIN:VCALENDAR
VERSION:2.0
PRODID:-//Klauzál Gábor Budafok-Tétényi Művelődési központ - ECPv6.15.18//NONSGML v1.0//EN
CALSCALE:GREGORIAN
METHOD:PUBLISH
X-WR-CALNAME:Klauzál Gábor Budafok-Tétényi Művelődési központ
X-ORIGINAL-URL:https://klauzalhaz.hu
X-WR-CALDESC:Események Klauzál Gábor Budafok-Tétényi Művelődési központ
REFRESH-INTERVAL;VALUE=DURATION:PT1H
X-Robots-Tag:noindex
X-PUBLISHED-TTL:PT1H
BEGIN:VTIMEZONE
TZID:Europe/Budapest
BEGIN:DAYLIGHT
TZOFFSETFROM:+0100
TZOFFSETTO:+0200
TZNAME:CEST
DTSTART:20250330T010000
END:DAYLIGHT
BEGIN:STANDARD
TZOFFSETFROM:+0200
TZOFFSETTO:+0100
TZNAME:CET
DTSTART:20251026T010000
END:STANDARD
BEGIN:DAYLIGHT
TZOFFSETFROM:+0100
TZOFFSETTO:+0200
TZNAME:CEST
DTSTART:20260329T010000
END:DAYLIGHT
BEGIN:STANDARD
TZOFFSETFROM:+0200
TZOFFSETTO:+0100
TZNAME:CET
DTSTART:20261025T010000
END:STANDARD
BEGIN:DAYLIGHT
TZOFFSETFROM:+0100
TZOFFSETTO:+0200
TZNAME:CEST
DTSTART:20270328T010000
END:DAYLIGHT
BEGIN:STANDARD
TZOFFSETFROM:+0200
TZOFFSETTO:+0100
TZNAME:CET
DTSTART:20271031T010000
END:STANDARD
END:VTIMEZONE
BEGIN:VEVENT
DTSTART;TZID=Europe/Budapest:20260507T190000
DTEND;TZID=Europe/Budapest:20260507T210000
DTSTAMP:20260421T055144
CREATED:20260316T140905Z
LAST-MODIFIED:20260401T142444Z
UID:9511-1778180400-1778187600@klauzalhaz.hu
SUMMARY:Hősök és kalandok - A Budafoki Dohnányi Zenekar fesztiválnyitó koncertje
DESCRIPTION:május 7. csütörtök 19.00\nHősök és kalandok – A Budafoki Dohnányi Zenekar fesztiválnyitó koncertje\nAz 50. Budafok-Tétényi Tavaszi Művészeti fesztivál nyitókoncertjén a fény és a zene együtt mesél történeteket.\nNyitányként lézerszínházi bemutatóval idézzük fel a fesztivál történetét\, múltját és jelenét. \nA Budafoki Dohnányi Zenekar műsorában olyan művek hangzanak el\, amelyek középpontjában bátor hősök\, titokzatos történetek és lendületes kalandok állnak. A zeneszámok a bátorságról\, a felfedezésről\, a kaland öröméről mesélnek\, Robin Hood történetét megidéző dallamokat is hallhatunk. \nEz a koncert nemcsak a klasszikus zene kedvelőinek szól: minden korosztály számára izgalmas élmény\, ahol a zenekar hangszerein keresztül megelevenednek a hősök\, a csaták\, a titkos erdők és a nagy utazások. \nVezényel: Hollerung Gábor \nJegyár: 7000 Ft\nKerületi lakcímkártyával (Klauzál Ház információs pultjánál érvényesítő): 6000 Ft \nMegosztom:
URL:https://klauzalhaz.hu/esemeny/hosok-es-kalandok-a-budafoki-dohnanyi-zenekar-fesztivalnyito-koncertje/
LOCATION:Klauzál Gábor Művelődési Központ\, Nagytétényi út 31-33\, Budapest\, 1222\, Hungary
CATEGORIES:Koncert,Programajánló,Programok
ATTACH;FMTTYPE=image/jpeg:https://klauzalhaz.hu/wp-content/uploads/2026/03/05_07_FB_1080_V_BDZ_nyito.jpg
END:VEVENT
END:VCALENDAR