BEGIN:VCALENDAR
VERSION:2.0
PRODID:-//Klauzál Gábor Budafok-Tétényi Művelődési központ - ECPv6.15.18//NONSGML v1.0//EN
CALSCALE:GREGORIAN
METHOD:PUBLISH
X-WR-CALNAME:Klauzál Gábor Budafok-Tétényi Művelődési központ
X-ORIGINAL-URL:https://klauzalhaz.hu
X-WR-CALDESC:Események Klauzál Gábor Budafok-Tétényi Művelődési központ
REFRESH-INTERVAL;VALUE=DURATION:PT1H
X-Robots-Tag:noindex
X-PUBLISHED-TTL:PT1H
BEGIN:VTIMEZONE
TZID:Europe/Budapest
BEGIN:DAYLIGHT
TZOFFSETFROM:+0100
TZOFFSETTO:+0200
TZNAME:CEST
DTSTART:20250330T010000
END:DAYLIGHT
BEGIN:STANDARD
TZOFFSETFROM:+0200
TZOFFSETTO:+0100
TZNAME:CET
DTSTART:20251026T010000
END:STANDARD
BEGIN:DAYLIGHT
TZOFFSETFROM:+0100
TZOFFSETTO:+0200
TZNAME:CEST
DTSTART:20260329T010000
END:DAYLIGHT
BEGIN:STANDARD
TZOFFSETFROM:+0200
TZOFFSETTO:+0100
TZNAME:CET
DTSTART:20261025T010000
END:STANDARD
BEGIN:DAYLIGHT
TZOFFSETFROM:+0100
TZOFFSETTO:+0200
TZNAME:CEST
DTSTART:20270328T010000
END:DAYLIGHT
BEGIN:STANDARD
TZOFFSETFROM:+0200
TZOFFSETTO:+0100
TZNAME:CET
DTSTART:20271031T010000
END:STANDARD
END:VTIMEZONE
BEGIN:VEVENT
DTSTART;TZID=Europe/Budapest:20260505T163000
DTEND;TZID=Europe/Budapest:20260810T171500
DTSTAMP:20260418T132739
CREATED:20260311T115219Z
LAST-MODIFIED:20260311T115219Z
UID:10013423-1777998600-1786382100@klauzalhaz.hu
SUMMARY:Helen Doron angol nyelvtanfolyam
DESCRIPTION:hétfő 16:30 – 17.15 (4-5 éves)\nhétfő 17.15 – 18.00 (8-10 éves)\nkedd 16.15 – 17.00 (6-8 éves)\nkedd 17.00 – 17.45 (8-10 éves)\nszerda 15.30-16.15 (2-4 éves)\nszerda 16.15-17.00 (5-7 éves)\nszerda 17.00-17.45 (4-5 éves)\ncsütörtök 15.15-16.45 (12-14 éves)\ncsütörtök 17.00-17.45 (6-8 éves)\ncsütörtök 17:00-17:45\npéntek 16.30 – 17.15 (4-6 éves)\npéntek 17.15-18.00 \nEgy korai nyelvelsajátítási módszer\, amely hasonlóan az anyanyelvünk tanulásához természetes módon történik. A világon egyedülálló pedagógiai program\, amellyel 35 éve tanulnak sikeresen a gyermekek 3 hónapos kortól\nTanfolyamvezető: Farkas-Káplár Anett\nTel.: +36/20 231-4021-es\nE-mail: bp22@helendoron.com \nMegosztom:
URL:https://klauzalhaz.hu/esemeny/helen-doron-angol-nyelvtanfolyam-4/2026-05-05/
LOCATION:Klauzál Gábor Művelődési Központ\, Nagytétényi út 31-33\, Budapest\, 1222\, Hungary
CATEGORIES:Gyermekeknek,Tanfolyamok
ATTACH;FMTTYPE=image/png:https://klauzalhaz.hu/wp-content/uploads/2025/02/helen-doron-angol-nyelvtanfolyam-helendoronpng.png
END:VEVENT
END:VCALENDAR