BEGIN:VCALENDAR
VERSION:2.0
PRODID:-//Klauzál Gábor Budafok-Tétényi Művelődési központ - ECPv6.15.18//NONSGML v1.0//EN
CALSCALE:GREGORIAN
METHOD:PUBLISH
X-WR-CALNAME:Klauzál Gábor Budafok-Tétényi Művelődési központ
X-ORIGINAL-URL:https://klauzalhaz.hu
X-WR-CALDESC:Események Klauzál Gábor Budafok-Tétényi Művelődési központ
REFRESH-INTERVAL;VALUE=DURATION:PT1H
X-Robots-Tag:noindex
X-PUBLISHED-TTL:PT1H
BEGIN:VTIMEZONE
TZID:Europe/Budapest
BEGIN:DAYLIGHT
TZOFFSETFROM:+0100
TZOFFSETTO:+0200
TZNAME:CEST
DTSTART:20250330T010000
END:DAYLIGHT
BEGIN:STANDARD
TZOFFSETFROM:+0200
TZOFFSETTO:+0100
TZNAME:CET
DTSTART:20251026T010000
END:STANDARD
BEGIN:DAYLIGHT
TZOFFSETFROM:+0100
TZOFFSETTO:+0200
TZNAME:CEST
DTSTART:20260329T010000
END:DAYLIGHT
BEGIN:STANDARD
TZOFFSETFROM:+0200
TZOFFSETTO:+0100
TZNAME:CET
DTSTART:20261025T010000
END:STANDARD
BEGIN:DAYLIGHT
TZOFFSETFROM:+0100
TZOFFSETTO:+0200
TZNAME:CEST
DTSTART:20270328T010000
END:DAYLIGHT
BEGIN:STANDARD
TZOFFSETFROM:+0200
TZOFFSETTO:+0100
TZNAME:CET
DTSTART:20271031T010000
END:STANDARD
END:VTIMEZONE
BEGIN:VEVENT
DTSTART;TZID=Europe/Budapest:20260310T153000
DTEND;TZID=Europe/Budapest:20260617T183000
DTSTAMP:20260418T000733
CREATED:20260311T090930Z
LAST-MODIFIED:20260311T090930Z
UID:10011047-1773156600-1781721000@klauzalhaz.hu
SUMMARY:Forma mozgásstúdió
DESCRIPTION:Forma mozgásstúdió (7 éves kortól) \nHétfő és szerda 15.30-18.30 \nA modern és a klasszikus balett alapjai\, színpadi mozgás oktatása. A tanfolyam célja a gyerekek mozgáskultúrájának fejlesztése\, és az egész életre szóló \nmozgásigény kialakítása. \nTanfolyamvezető: Fejes Erika moderntánc pedagógus \nRészvételi díj: 14. 000 Ft /hó \nMegosztom:
URL:https://klauzalhaz.hu/esemeny/forma-mozgasstudio-3/2026-03-10/
LOCATION:Klauzál Gábor Művelődési Központ\, Nagytétényi út 31-33\, Budapest\, 1222\, Hungary
CATEGORIES:Mozgáskultúra,Tanfolyamok
ATTACH;FMTTYPE=image/jpeg:https://klauzalhaz.hu/wp-content/uploads/2025/02/forma-mozgasstudio-forma-mozgasstudiojpg.jpg
END:VEVENT
END:VCALENDAR