BEGIN:VCALENDAR
VERSION:2.0
PRODID:-//Klauzál Gábor Budafok-Tétényi Művelődési központ - ECPv6.15.18//NONSGML v1.0//EN
CALSCALE:GREGORIAN
METHOD:PUBLISH
X-WR-CALNAME:Klauzál Gábor Budafok-Tétényi Művelődési központ
X-ORIGINAL-URL:https://klauzalhaz.hu
X-WR-CALDESC:Események Klauzál Gábor Budafok-Tétényi Művelődési központ
REFRESH-INTERVAL;VALUE=DURATION:PT1H
X-Robots-Tag:noindex
X-PUBLISHED-TTL:PT1H
BEGIN:VTIMEZONE
TZID:Europe/Budapest
BEGIN:DAYLIGHT
TZOFFSETFROM:+0100
TZOFFSETTO:+0200
TZNAME:CEST
DTSTART:20250330T010000
END:DAYLIGHT
BEGIN:STANDARD
TZOFFSETFROM:+0200
TZOFFSETTO:+0100
TZNAME:CET
DTSTART:20251026T010000
END:STANDARD
BEGIN:DAYLIGHT
TZOFFSETFROM:+0100
TZOFFSETTO:+0200
TZNAME:CEST
DTSTART:20260329T010000
END:DAYLIGHT
BEGIN:STANDARD
TZOFFSETFROM:+0200
TZOFFSETTO:+0100
TZNAME:CET
DTSTART:20261025T010000
END:STANDARD
BEGIN:DAYLIGHT
TZOFFSETFROM:+0100
TZOFFSETTO:+0200
TZNAME:CEST
DTSTART:20270328T010000
END:DAYLIGHT
BEGIN:STANDARD
TZOFFSETFROM:+0200
TZOFFSETTO:+0100
TZNAME:CET
DTSTART:20271031T010000
END:STANDARD
END:VTIMEZONE
BEGIN:VEVENT
DTSTART;TZID=Europe/Budapest:20260607T163000
DTEND;TZID=Europe/Budapest:20260607T200000
DTSTAMP:20260421T013734
CREATED:20260402T160128Z
LAST-MODIFIED:20260409T141654Z
UID:9790-1780849800-1780862400@klauzalhaz.hu
SUMMARY:Fesztiválzáró
DESCRIPTION:június 7. vasárnap\nFesztiválzáró \n16:30 Goldi Geri interaktív gyerekshow \n18:00 Ocho Macho koncert\nA zenekar lassan 20 éve meghatározó és egyben hiánypótló szerepet tölt be a hazai zenei szcénában. A kőszegi-szombathelyi gyökerekkel rendelkező „nyolc macsó” az ország egyik hangulatfelelőse\, a fesztivál- és klubélet megkerülhetetlen szereplője. Olyan nagysikerű slágerek fűződnek a banda nevéhez\, mint a YouTube-on már 32 milliós nézettségű „Jó nekem”\, a szintén közönségkedvenc „El Mundo Fantástico”\, a Kowalsky közreműködésével készült „Képzeld el másképp”\, és még sorolhatnánk.\nA háromszoros platinalemezes Ocho Macho életében a 2015-ös év mérföldkőnek számított: a „Nagy-Szín-Pad!” tehetségkutató nyerteseként lehetőséget kaptak többek között a VOLT és a SZIGET Fesztivál nagyszínpadán is fellépni – utóbbin Robbie Willams előtt. Majd 2016-ban ők képviselték hazánkat a 30. Eurosonic Fesztiválon Hollandiában\, ahol szintén óriási sikert arattak. \nA részvétel díjtalan. \nHelyszín: Budafoki Szomszédok Piactér \nMegosztom:
URL:https://klauzalhaz.hu/esemeny/fesztivalzaro/
LOCATION:Budafoki Szomszédok Piaca\, Budapest\, Játék u. 2-12\, 1221\, Budapest\, 1221\, Hungary
CATEGORIES:Koncert,Programajánló,Programok,Tavaszi Fesztivál 2026
ATTACH;FMTTYPE=image/jpeg:https://klauzalhaz.hu/wp-content/uploads/2026/04/Ocho_Macho_1080-1.jpg
END:VEVENT
END:VCALENDAR