BEGIN:VCALENDAR
VERSION:2.0
PRODID:-//Klauzál Gábor Budafok-Tétényi Művelődési központ - ECPv6.15.18//NONSGML v1.0//EN
CALSCALE:GREGORIAN
METHOD:PUBLISH
X-WR-CALNAME:Klauzál Gábor Budafok-Tétényi Művelődési központ
X-ORIGINAL-URL:https://klauzalhaz.hu
X-WR-CALDESC:Események Klauzál Gábor Budafok-Tétényi Művelődési központ
REFRESH-INTERVAL;VALUE=DURATION:PT1H
X-Robots-Tag:noindex
X-PUBLISHED-TTL:PT1H
BEGIN:VTIMEZONE
TZID:Europe/Budapest
BEGIN:DAYLIGHT
TZOFFSETFROM:+0100
TZOFFSETTO:+0200
TZNAME:CEST
DTSTART:20250330T010000
END:DAYLIGHT
BEGIN:STANDARD
TZOFFSETFROM:+0200
TZOFFSETTO:+0100
TZNAME:CET
DTSTART:20251026T010000
END:STANDARD
BEGIN:DAYLIGHT
TZOFFSETFROM:+0100
TZOFFSETTO:+0200
TZNAME:CEST
DTSTART:20260329T010000
END:DAYLIGHT
BEGIN:STANDARD
TZOFFSETFROM:+0200
TZOFFSETTO:+0100
TZNAME:CET
DTSTART:20261025T010000
END:STANDARD
BEGIN:DAYLIGHT
TZOFFSETFROM:+0100
TZOFFSETTO:+0200
TZNAME:CEST
DTSTART:20270328T010000
END:DAYLIGHT
BEGIN:STANDARD
TZOFFSETFROM:+0200
TZOFFSETTO:+0100
TZNAME:CET
DTSTART:20271031T010000
END:STANDARD
END:VTIMEZONE
BEGIN:VEVENT
DTSTART;TZID=Europe/Budapest:20260311T100000
DTEND;TZID=Europe/Budapest:20260311T120000
DTSTAMP:20260420T123038
CREATED:20260220T144835Z
LAST-MODIFIED:20260309T151700Z
UID:8993-1773223200-1773230400@klauzalhaz.hu
SUMMARY:Csere-Bere- és Mese Délelőtt
DESCRIPTION:március 11. szerda 10:00\nCsere-Bere- és Mese Délelőtt \nAmit Ti meguntatok\, vagy kinőtt a gyermeked\, másnak még kincs lehet!\nA XXII. kerületi Egyesített Bölcsőde és Klauzál Ház ruha- és játék csere-bere börzét tart.\nA program mellett a Klauzál Ház is lehetőséget biztosít a tavasz közeledtével\, hogy gyermekeiknek minőségi\, használt kincsekre leljenek. A BabaFok várja azon szülők jelentkezését is\, akik jelképes összegért kínálnák eladni kívánt portékáikat.\nAsztal regisztráció cserére: babafok@klauzalhaz.hu. Regisztrációban kérjük megjelölni\, hogy ingyenes csere-berére\, adományt ad le a bölcsi részére vagy jelképes összegért kívánja eladni a ruhákat\, játékokat. \nÉrkezhetsz gyermekeddel is az eseményre a BabaFok terembe\, hiszen játéklehetőséggel és Mesemondó előadással is készülünk számukra.\nBelépés díjtalan! \nMegosztom:
URL:https://klauzalhaz.hu/esemeny/csere-bere-es-mese-delelott/
LOCATION:Klauzál Gábor Művelődési Központ\, Nagytétényi út 31-33\, Budapest\, 1222\, Hungary
CATEGORIES:BabaFok,Programajánló,Programok
ATTACH;FMTTYPE=image/jpeg:https://klauzalhaz.hu/wp-content/uploads/2026/02/csere-bere-cover-e1771598876682.jpg
END:VEVENT
END:VCALENDAR