BEGIN:VCALENDAR
VERSION:2.0
PRODID:-//Klauzál Gábor Budafok-Tétényi Művelődési központ - ECPv6.15.18//NONSGML v1.0//EN
CALSCALE:GREGORIAN
METHOD:PUBLISH
X-WR-CALNAME:Klauzál Gábor Budafok-Tétényi Művelődési központ
X-ORIGINAL-URL:https://klauzalhaz.hu
X-WR-CALDESC:Események Klauzál Gábor Budafok-Tétényi Művelődési központ
REFRESH-INTERVAL;VALUE=DURATION:PT1H
X-Robots-Tag:noindex
X-PUBLISHED-TTL:PT1H
BEGIN:VTIMEZONE
TZID:Europe/Budapest
BEGIN:DAYLIGHT
TZOFFSETFROM:+0100
TZOFFSETTO:+0200
TZNAME:CEST
DTSTART:20250330T010000
END:DAYLIGHT
BEGIN:STANDARD
TZOFFSETFROM:+0200
TZOFFSETTO:+0100
TZNAME:CET
DTSTART:20251026T010000
END:STANDARD
BEGIN:DAYLIGHT
TZOFFSETFROM:+0100
TZOFFSETTO:+0200
TZNAME:CEST
DTSTART:20260329T010000
END:DAYLIGHT
BEGIN:STANDARD
TZOFFSETFROM:+0200
TZOFFSETTO:+0100
TZNAME:CET
DTSTART:20261025T010000
END:STANDARD
BEGIN:DAYLIGHT
TZOFFSETFROM:+0100
TZOFFSETTO:+0200
TZNAME:CEST
DTSTART:20270328T010000
END:DAYLIGHT
BEGIN:STANDARD
TZOFFSETFROM:+0200
TZOFFSETTO:+0100
TZNAME:CET
DTSTART:20271031T010000
END:STANDARD
END:VTIMEZONE
BEGIN:VEVENT
DTSTART;TZID=Europe/Budapest:20260417T190000
DTEND;TZID=Europe/Budapest:20260417T210000
DTSTAMP:20260417T185323
CREATED:20260211T090326Z
LAST-MODIFIED:20260211T155043Z
UID:8906-1776452400-1776459600@klauzalhaz.hu
SUMMARY:CandyMen Duo Rock and Roll & Rockabilly koncert
DESCRIPTION:Világslágerek rock and roll ritmusban \nIgazi koncertérzet\, mindössze két taggal\, hatalmas show és elsöprő energia!\nNe hagyja ki a pörgő ritmust\, ’a hillbilly’ és klasszikus rock and roll hangulatot.\nA CandyMen Duo koncertjén nincs megállás: rock and roll őrület\, tempó\, csattogó nagybőgő és vad gitárfutamok! \nTagok:\nTom White – ének\, harmonika\, akusztikus gitár\nSchiffler Patrik (Ricky) – ének\, nagybőgő \nMűsoruk a modern mai slágerek átdolgozásától kiterjed az 50-es évekbeli „régi” dallamokra\, illetve saját dalaikra. \nHa szereted a rock and rollt\, itt a helyed! \nJegyár: 2800 Ft \nMegosztom:
URL:https://klauzalhaz.hu/esemeny/candymen-duo-rock-and-roll-rockabilly-koncert/
LOCATION:Klauzál Gábor Művelődési Központ\, Nagytétényi út 31-33\, Budapest\, 1222\, Hungary
CATEGORIES:Koncert,Programajánló
ATTACH;FMTTYPE=image/jpeg:https://klauzalhaz.hu/wp-content/uploads/2026/02/CandyMen-Duo_1080.jpg
END:VEVENT
END:VCALENDAR