BEGIN:VCALENDAR
VERSION:2.0
PRODID:-//Klauzál Gábor Budafok-Tétényi Művelődési központ - ECPv6.15.18//NONSGML v1.0//EN
CALSCALE:GREGORIAN
METHOD:PUBLISH
X-WR-CALNAME:Klauzál Gábor Budafok-Tétényi Művelődési központ
X-ORIGINAL-URL:https://klauzalhaz.hu
X-WR-CALDESC:Események Klauzál Gábor Budafok-Tétényi Művelődési központ
REFRESH-INTERVAL;VALUE=DURATION:PT1H
X-Robots-Tag:noindex
X-PUBLISHED-TTL:PT1H
BEGIN:VTIMEZONE
TZID:Europe/Budapest
BEGIN:DAYLIGHT
TZOFFSETFROM:+0100
TZOFFSETTO:+0200
TZNAME:CEST
DTSTART:20250330T010000
END:DAYLIGHT
BEGIN:STANDARD
TZOFFSETFROM:+0200
TZOFFSETTO:+0100
TZNAME:CET
DTSTART:20251026T010000
END:STANDARD
BEGIN:DAYLIGHT
TZOFFSETFROM:+0100
TZOFFSETTO:+0200
TZNAME:CEST
DTSTART:20260329T010000
END:DAYLIGHT
BEGIN:STANDARD
TZOFFSETFROM:+0200
TZOFFSETTO:+0100
TZNAME:CET
DTSTART:20261025T010000
END:STANDARD
BEGIN:DAYLIGHT
TZOFFSETFROM:+0100
TZOFFSETTO:+0200
TZNAME:CEST
DTSTART:20270328T010000
END:DAYLIGHT
BEGIN:STANDARD
TZOFFSETFROM:+0200
TZOFFSETTO:+0100
TZNAME:CET
DTSTART:20271031T010000
END:STANDARD
END:VTIMEZONE
BEGIN:VEVENT
DTSTART;TZID=Europe/Budapest:20260502T090000
DTEND;TZID=Europe/Budapest:20260502T180000
DTSTAMP:20260417T224721
CREATED:20260414T110020Z
LAST-MODIFIED:20260414T110104Z
UID:9822-1777712400-1777744800@klauzalhaz.hu
SUMMARY:Campona Victrix Régészeti Kiállítóhely Majálisa a Pincejáraton
DESCRIPTION:2026-05-02 09:00\n1225 Budapest\, Szent Flórián tér\nNyitvatartás: 9.00-18.00 \n9.00-13.00 Pancs-Gasztroplacc: A Pancs Gasztroplacc egy laza\, mégis tudatos városi termelői piac\, olyan közösségi tér\, ahol a minőségi alapanyagok\, a közvetlen termelői jelenlét és a jó hangulat egyszerre vannak jelen. Nemcsak bevásárlóhely\, hanem találkozópont is: szezonális zöldségek-gyümölcsök\, sajtok\, pékáruk\, házi finomságok\, szörpök\, lekvárok mellett kóstolók\, közös asztal és ismerős arcok adják meg a karakterét. A közös együttműködés reményeink szerint visszahozza majd a régi nagytétényi piactér hangulatát! A piac területe ingyenes. \n10.00-17.00 Ludi – gyereksarok Egész napos\, gyerekfoglalkozás római kori témában\, játékos feladattal\, élményszerű ismeretszerzéssel. A program célja\, hogy a gyerekek közelebb kerüljenek az ókori mindennapokhoz\, szokásokhoz és tárgyi kultúrához. Alkossanak maradandó emléket és tanuljanak egy letűnt kor világából. Amíg a szülők a bevásárlást\, vagy a tárlatvezetést\, sétát élvezik a játszótér mellett a gyerekek is kikapcsolódhatnak. Program díja 650 FT/fő \n13.00 Mráv Zsolt régész-muzeológus tárlatvezetése során a látogatók izgalmas betekintést nyerhetnek a római kor világába\, valamint Campona és környéke régészeti emlékeibe. A vezetés különleges alkalmat kínál arra\, hogy a kurátor tolmácsolásában ismerhessük meg a kiállítás anyagát. \nA kiállítás és a tárlatvezetés megtekintése belépőjegy megváltásával lehetséges: Felnőtt teljes árú jegy: 1500 Ft / Kedvezményes jegy (62–70 év) : 750 Ft. \n15.00 A nagytétényi helytörténeti séta egy izgalmas időutazás a városrész múltjába. Közös felfedezés\, ahol utcák\, épületek és történetek révén elevenedik meg Nagytétény kulturális öröksége. Nemcsak helyszíneket mutat be\, hanem közelebb hozza a városrész helyi értékeit\, emlékeit és azt a történelmi utat is\, amelyen keresztül Nagytétény a ma 100 éves Budafok\, vagyis a 22. kerület részévé vált. A helytörténeti sétán való részvétel ingyenes\, de regisztrációhoz kötött. Jelentkezés: Wahl Ildikó – wahlildiko@gmail.com \nMegosztom:
URL:https://klauzalhaz.hu/esemeny/campona-victrix-regeszeti-kiallitohely-majalisa-a-pincejaraton/
LOCATION:1225 Budapest\, Szent Flórián tér
CATEGORIES:Programok
ATTACH;FMTTYPE=image/jpeg:https://klauzalhaz.hu/wp-content/uploads/2026/04/Pincejarat_maj_2_a.jpg
END:VEVENT
END:VCALENDAR