BEGIN:VCALENDAR
VERSION:2.0
PRODID:-//Klauzál Gábor Budafok-Tétényi Művelődési központ - ECPv6.15.18//NONSGML v1.0//EN
CALSCALE:GREGORIAN
METHOD:PUBLISH
X-WR-CALNAME:Klauzál Gábor Budafok-Tétényi Művelődési központ
X-ORIGINAL-URL:https://klauzalhaz.hu
X-WR-CALDESC:Események Klauzál Gábor Budafok-Tétényi Művelődési központ
REFRESH-INTERVAL;VALUE=DURATION:PT1H
X-Robots-Tag:noindex
X-PUBLISHED-TTL:PT1H
BEGIN:VTIMEZONE
TZID:Europe/Budapest
BEGIN:DAYLIGHT
TZOFFSETFROM:+0100
TZOFFSETTO:+0200
TZNAME:CEST
DTSTART:20250330T010000
END:DAYLIGHT
BEGIN:STANDARD
TZOFFSETFROM:+0200
TZOFFSETTO:+0100
TZNAME:CET
DTSTART:20251026T010000
END:STANDARD
BEGIN:DAYLIGHT
TZOFFSETFROM:+0100
TZOFFSETTO:+0200
TZNAME:CEST
DTSTART:20260329T010000
END:DAYLIGHT
BEGIN:STANDARD
TZOFFSETFROM:+0200
TZOFFSETTO:+0100
TZNAME:CET
DTSTART:20261025T010000
END:STANDARD
BEGIN:DAYLIGHT
TZOFFSETFROM:+0100
TZOFFSETTO:+0200
TZNAME:CEST
DTSTART:20270328T010000
END:DAYLIGHT
BEGIN:STANDARD
TZOFFSETFROM:+0200
TZOFFSETTO:+0100
TZNAME:CET
DTSTART:20271031T010000
END:STANDARD
END:VTIMEZONE
BEGIN:VEVENT
DTSTART;TZID=Europe/Budapest:20260416T173000
DTEND;TZID=Europe/Budapest:20260416T183000
DTSTAMP:20260421T115440
CREATED:20260413T121213Z
LAST-MODIFIED:20260413T121213Z
UID:9816-1776360600-1776364200@klauzalhaz.hu
SUMMARY:Bevezetés a Bach-virágok világába
DESCRIPTION:április 16. csütörtök 17.30\nBevezetés a Bach-virágok világába \nSzeretettel várunk gyakorlatias szemléletű Bach-virág előadásunkra!\nA Bach-virágok az érzelmek finom\, mégis mély szintjén támogatják a lelki egyensúlyt\, természetes és gyengéd módon. Előadónk közérthetően és példákon keresztül mutatja meg\, mikor\, mire és hogyan alkalmazhatóak a Bach-virágeszenciák. Beszélünk stresszről\, félelmekről\, kimerültségről – és arról\, hogyan segíthetnek ezekben a Bach-virágok nekünk felnőtteknek\, gyerekekeinknek\, de akár az állatoknak és a növényeknek is. \nElőadó:Rabi KrisztinaAngol Bach Centre által regisztrált Bach-virág konzulens (BFRP) \nA részvétel díjtalan! \nMegosztom:
URL:https://klauzalhaz.hu/esemeny/bevezetes-a-bach-viragok-vilagaba/
LOCATION:Klauzál Gábor Művelődési Központ\, Nagytétényi út 31-33\, Budapest\, 1222\, Hungary
CATEGORIES:BabaFok,Programajánló,Programok
ATTACH;FMTTYPE=image/png:https://klauzalhaz.hu/wp-content/uploads/2026/04/bach-viragterapia-mindenkinek-eloadas-2026.04.16.-klauzal-haz.png
END:VEVENT
END:VCALENDAR