BEGIN:VCALENDAR
VERSION:2.0
PRODID:-//Klauzál Gábor Budafok-Tétényi Művelődési központ - ECPv6.15.18//NONSGML v1.0//EN
CALSCALE:GREGORIAN
METHOD:PUBLISH
X-WR-CALNAME:Klauzál Gábor Budafok-Tétényi Művelődési központ
X-ORIGINAL-URL:https://klauzalhaz.hu
X-WR-CALDESC:Események Klauzál Gábor Budafok-Tétényi Művelődési központ
REFRESH-INTERVAL;VALUE=DURATION:PT1H
X-Robots-Tag:noindex
X-PUBLISHED-TTL:PT1H
BEGIN:VTIMEZONE
TZID:Europe/Budapest
BEGIN:DAYLIGHT
TZOFFSETFROM:+0100
TZOFFSETTO:+0200
TZNAME:CEST
DTSTART:20250330T010000
END:DAYLIGHT
BEGIN:STANDARD
TZOFFSETFROM:+0200
TZOFFSETTO:+0100
TZNAME:CET
DTSTART:20251026T010000
END:STANDARD
BEGIN:DAYLIGHT
TZOFFSETFROM:+0100
TZOFFSETTO:+0200
TZNAME:CEST
DTSTART:20260329T010000
END:DAYLIGHT
BEGIN:STANDARD
TZOFFSETFROM:+0200
TZOFFSETTO:+0100
TZNAME:CET
DTSTART:20261025T010000
END:STANDARD
BEGIN:DAYLIGHT
TZOFFSETFROM:+0100
TZOFFSETTO:+0200
TZNAME:CEST
DTSTART:20270328T010000
END:DAYLIGHT
BEGIN:STANDARD
TZOFFSETFROM:+0200
TZOFFSETTO:+0100
TZNAME:CET
DTSTART:20271031T010000
END:STANDARD
END:VTIMEZONE
BEGIN:VEVENT
DTSTART;TZID=Europe/Budapest:20260326T180000
DTEND;TZID=Europe/Budapest:20260326T200000
DTSTAMP:20260417T233739
CREATED:20260210T135731Z
LAST-MODIFIED:20260318T092817Z
UID:8889-1774548000-1774555200@klauzalhaz.hu
SUMMARY:Az érzelmi intelligencia fejlesztése   Dr. Kádár Annamária pszichológus\, tréner\, egyetemi oktató előadása
DESCRIPTION:A Mesepszichológia könyvek kirobbanó temperamentumú szerzője híres a gyakorlatias és fergeteges humorú előadásairól\, melyeket országszerte vastapssal köszön meg a közönség.  Kutatások igazolják\, hogy az életben való boldogulásunk nem csak értelmi képességeinken múlik. Az igazi sikereket – és ami még fontosabb – a belső harmóniát csak akkor érhetjük el\, ha jártasok vagyunk az érzelmek és a kapcsolatok világában\, képesek vagyunk konfliktusokat kezelni\, együttműködni\, segítséget kérni\, vágyainkat késleltetni\, kitartani. Vagyis\, ha fejlett az érzelmi intelligenciánk. Mindez fejleszthető gyermek- és felnőttkorban egyaránt. Vannak célzott gyakorlatok\, melyek segítenek szóba állni az érzésekkel\, szülőként pedig sokat tehetünk azért\, hogy gyermekünknek magas legyen az érzelmi intelligenciája\, és ezáltal könnyebben meg tudjon küzdeni a külső és belső nehézségekkel. Érdemes megtanulni\, hogyan. \nDr. Kádár Annamária előadása a gyakorlatias\, jól használható ismeretek mellett másfél órányi felhőtlen szórakozást ígér. \nJegyár: 3500 Ft\, kerületi lakcímkártyával és BabaFok kártyával 2500 Ft \nMegosztom:
URL:https://klauzalhaz.hu/esemeny/az-erzelmi-intelligencia-fejlesztese-dr-kadar-annamaria-eloadasa/
LOCATION:Klauzál Gábor Művelődési Központ\, Nagytétényi út 31-33\, Budapest\, 1222\, Hungary
CATEGORIES:Ismeretterjesztés,Programajánló
ATTACH;FMTTYPE=image/jpeg:https://klauzalhaz.hu/wp-content/uploads/2026/02/Kadar-Annamaria_V0317.jpg
END:VEVENT
END:VCALENDAR