BEGIN:VCALENDAR
VERSION:2.0
PRODID:-//Klauzál Gábor Budafok-Tétényi Művelődési központ - ECPv6.15.18//NONSGML v1.0//EN
CALSCALE:GREGORIAN
METHOD:PUBLISH
X-WR-CALNAME:Klauzál Gábor Budafok-Tétényi Művelődési központ
X-ORIGINAL-URL:https://klauzalhaz.hu
X-WR-CALDESC:Események Klauzál Gábor Budafok-Tétényi Művelődési központ
REFRESH-INTERVAL;VALUE=DURATION:PT1H
X-Robots-Tag:noindex
X-PUBLISHED-TTL:PT1H
BEGIN:VTIMEZONE
TZID:Europe/Budapest
BEGIN:DAYLIGHT
TZOFFSETFROM:+0100
TZOFFSETTO:+0200
TZNAME:CEST
DTSTART:20250330T010000
END:DAYLIGHT
BEGIN:STANDARD
TZOFFSETFROM:+0200
TZOFFSETTO:+0100
TZNAME:CET
DTSTART:20251026T010000
END:STANDARD
BEGIN:DAYLIGHT
TZOFFSETFROM:+0100
TZOFFSETTO:+0200
TZNAME:CEST
DTSTART:20260329T010000
END:DAYLIGHT
BEGIN:STANDARD
TZOFFSETFROM:+0200
TZOFFSETTO:+0100
TZNAME:CET
DTSTART:20261025T010000
END:STANDARD
BEGIN:DAYLIGHT
TZOFFSETFROM:+0100
TZOFFSETTO:+0200
TZNAME:CEST
DTSTART:20270328T010000
END:DAYLIGHT
BEGIN:STANDARD
TZOFFSETFROM:+0200
TZOFFSETTO:+0100
TZNAME:CET
DTSTART:20271031T010000
END:STANDARD
END:VTIMEZONE
BEGIN:VEVENT
DTSTART;VALUE=DATE:20260529
DTEND;VALUE=DATE:20260531
DTSTAMP:20260421T025151
CREATED:20260327T170443Z
LAST-MODIFIED:20260327T170443Z
UID:9736-1780012800-1780185599@klauzalhaz.hu
SUMMARY:aqb Open House – Vendégség
DESCRIPTION:Május 29. péntek – 30. szombat\naqb Open House – Vendégség \nIdén ismét szélesre tárja kapuit az art quarter Budapest. A különleges hétvégén bekukkanthatunk a kulisszák mögé\, és felfedezhetjük\, mi zajlik egy kortárs művészeti központ falai között.\nAz idei esemény témája a vendégség: a művészek házigazdaként engednek be a műtermekbe\, kötetlen beszélgetések mellett nézhetjük meg\, hol és hogyan születnek az alkotások. \nNyitott műtermek: találkozás és beszélgetés a művészekkel saját alkotóterükben.\nKiállítás: a ház művészeinek alkotásaiból készült válogatás az aqb Project Space galériában.\nKulturális programok: zenei események\, koncertek és performanszok.\nGasztro: Haggenmacher sörök\, finom falatok a gyárudvaron \nSörgyár-látogatás a Haggenmacher Sörcsarnokban. \nA program részletei az aqb.hu honlapon olvashatók. \nA részvétel díjtalan.\nHelyszín: Art quarter \nMegosztom:
URL:https://klauzalhaz.hu/esemeny/aqb-open-house-vendegseg/
LOCATION:aqb Project Space\, Nagytétényi út 48-50\, Budapest\, 1222\, Hungary
CATEGORIES:Kiállítás,Programajánló,Programok,Tavaszi Fesztivál 2026
ATTACH;FMTTYPE=image/jpeg:https://klauzalhaz.hu/wp-content/uploads/2026/03/AQB_1080.jpg
END:VEVENT
END:VCALENDAR