BEGIN:VCALENDAR
VERSION:2.0
PRODID:-//Klauzál Gábor Budafok-Tétényi Művelődési központ - ECPv6.15.18//NONSGML v1.0//EN
CALSCALE:GREGORIAN
METHOD:PUBLISH
X-WR-CALNAME:Klauzál Gábor Budafok-Tétényi Művelődési központ
X-ORIGINAL-URL:https://klauzalhaz.hu
X-WR-CALDESC:Események Klauzál Gábor Budafok-Tétényi Művelődési központ
REFRESH-INTERVAL;VALUE=DURATION:PT1H
X-Robots-Tag:noindex
X-PUBLISHED-TTL:PT1H
BEGIN:VTIMEZONE
TZID:Europe/Budapest
BEGIN:DAYLIGHT
TZOFFSETFROM:+0100
TZOFFSETTO:+0200
TZNAME:CEST
DTSTART:20250330T010000
END:DAYLIGHT
BEGIN:STANDARD
TZOFFSETFROM:+0200
TZOFFSETTO:+0100
TZNAME:CET
DTSTART:20251026T010000
END:STANDARD
BEGIN:DAYLIGHT
TZOFFSETFROM:+0100
TZOFFSETTO:+0200
TZNAME:CEST
DTSTART:20260329T010000
END:DAYLIGHT
BEGIN:STANDARD
TZOFFSETFROM:+0200
TZOFFSETTO:+0100
TZNAME:CET
DTSTART:20261025T010000
END:STANDARD
BEGIN:DAYLIGHT
TZOFFSETFROM:+0100
TZOFFSETTO:+0200
TZNAME:CEST
DTSTART:20270328T010000
END:DAYLIGHT
BEGIN:STANDARD
TZOFFSETFROM:+0200
TZOFFSETTO:+0100
TZNAME:CET
DTSTART:20271031T010000
END:STANDARD
END:VTIMEZONE
BEGIN:VEVENT
DTSTART;VALUE=DATE:20260507
DTEND;VALUE=DATE:20260608
DTSTAMP:20260421T041410
CREATED:20260420T153556Z
LAST-MODIFIED:20260420T153556Z
UID:9887-1778112000-1780876799@klauzalhaz.hu
SUMMARY:50. Budafok-Tétényi Tavaszi Művészeti Fesztivál
DESCRIPTION:Fél évszázada minden tavasszal a művészet költözik Budafok–Tétény utcáira és közösségi tereibe.\nIdén a jubileumi 50. alkalommal várjuk a kerület lakóit és minden érdeklődőt az egy hónapon át tartó kulturális ünnepre. Május 7. és június 7. között több mint 50 rendezvénnyel készülünk\, a kerület számos pontján kínálunk élményt minden korosztály számára. A programkínálatban a művészet szinte minden ága megjelenik: színház\, koncertek\, irodalom\, képzőművészet\, tánc és közösségi programok. Ismert előadók\, népszerű produkciók\, valamint a kerület tehetséges művészei együtt teszik különlegessé a jubileumi eseményt. A cél\, hogy a művészet ismét összehozza a közösséget – legyen szó egy meghitt koncertélményről\, egy színházi estéről\, egy kiállításról vagy egy családi programról. \nIdőpont: 2026. május 7. – június 7.Helyszínek: Több helyszínen Budafok–Tétényben \nmájus 7. csütörtök 17.30\nösszetART kiállításmegnyitóHelyszín: Klauzál Ház – Vén Emil Galériahttps://klauzalhaz.hu/esemeny/osszetart-kiallitasmegnyito/ \nmájus 7. csütörtök 19.00Hősök és kalandokA Budafoki Dohnányi Zenekar fesztiválnyitó koncertjeHelyszín: Klauzál Házhttps://klauzalhaz.jegy.hu/…/hosok-es-kalandok… \nmájus 9. szombatBudapest 100 programok és nyitott házak Budafokonhttps://klauzalhaz.hu/…/budapest-100-programok-es…/ \nmájus 9. szombat 17.00BigTétény – Görpark JamHelyszín: Nagytétényi Görparkhttps://klauzalhaz.hu/esemeny/bigteteny-gorpark-jam/ \nmájus 10. vasárnap 10.00GyereknapHelyszín: Szelmann Házhttps://klauzalhaz.hu/esemeny/gyereknap-a-szelmann-hazban/ \nmájus 10. vasárnap 18.00YumeDon Taiko japándob koncertHelyszín: Klauzál Házhttps://klauzalhaz.jegy.hu/…/yumedon-taiko-koncert-190117 \nmájus 11. hétfő 19.00Kastélyok zenéi – zeneszerző arisztokraták | a Lampart-Budafok Vegyeskar koncertjeHelyszín: Cziffra Színtérhttps://klauzalhaz.hu/…/kastelyok-zenei-zeneszerzo…/ \nmájus 12. kedd 17.00Tavaszi lendület – a Mészáros László Képzőművészeti Kör kiállításának megnyitójaHelyszín: Klauzál Házhttps://klauzalhaz.hu/…/tavaszi-lendulet-a-meszaros…/ \nmájus 12. kedd 18.00Egy pillanatra megáll az idő… – BalettgálaHelyszín: Klauzál Házhttps://klauzalhaz.jegy.hu/program/nadasdy-balettgala-190215 \nmájus 14. csütörtök 18.00Feltár\, szembesít\, kritikát gyakorol – Irodalmi Szalon Závada PállalHelyszín: Magdolna Udvarhttps://klauzalhaz.jegy.hu/…/feltar-szembesit-kritikat… \nmájus 14. csütörtök 19.00Clauságok – Liptai Claudia önálló estjeHelyszín: Klauzál Házhttps://klauzalhaz.jegy.hu/…/clausagok-liptai-claudia… \nmájus 15. péntek 10.00Zongoravarázs – Hegedűs Endre gyermek – és ifjúsági koncertjeHelyszín: Klauzál Házhttps://klauzalhaz.hu/esemeny/4985-2/2026-05-15/ \nmájus 15. péntek 18.00Szürtreál – Az Artér Művészeti Egyesület tagjainak kiállításaHelyszín: Magdolna Udvarhttps://klauzalhaz.hu/…/szurtreal-az-arter-muveszeti…/ \nmájus 15. péntek 19.00Budafoki Hangversenyesték | Különböző korok – közös zenei ívHelyszín: Klauzál Házhttps://bdz.jegy.hu/…/budafoki-2025-267…/1251556 \nmájus 16. szombat 9.00„…kiknek neve\, beíratott az Élet Könyvébe!” – Séta a Fiumei úti SírkertbenHelyszín: Fiumei úti sírkerthttps://klauzalhaz.hu/…/kiknek-neve-beiratott-az-elet…/ \nmájus 16. szombat 15.00Történelmi séta NagytéténybenHelyszín: Nagytétényi Nagyboldogasszony plébániatemplomhttps://klauzalhaz.hu/esemeny/tortenelmi-seta-nagytetenyben/ \nmájus 16. szombat 16.00Múltidéző fesztiválplakátok (2016-2026.)Helyszín: Radóczy Mária Galéria kertjehttps://klauzalhaz.hu/…/multidezo-fesztivalplakatok…/ \nmájus 16. szombat 19.00Budafok Fúvós Allstars – Rézlénytársaság & Budafok Big Band koncertjeSztárvendég: Gájer Bálint és Mihályi RékaHelyszín: Klauzál Házhttps://klauzalhaz.jegy.hu/…/budafok-fuvos-allstars… \nmájus 16. szombat 19.00Aranygála – Hegedűs Endre zongoraestjeHelyszín: Cziffra Színtérhttps://klauzalhaz.hu/…/aranygala-hegedus-endre…/ \nmájus 17. vasárnap 15.30Mesefesztivál – Szárnyalj a mesék birodalmában!Bogyó és Babóca újabb kalandjai című meseelőadás és a Kiskalász Duó koncertjeHelyszín: Klauzál Házhttps://klauzalhaz.jegy.hu/program/mesefesztival-191184 \nRajzpályázat – Keltsd életre az erdő mesés világát!https://klauzalhaz.hu/…/rajzpalyazat-keltsd-eletre-az…/ \nmájus 20. szerda 18.00Budafok 20. századi templomainak jelentősége hazai templomépítészetünkbenHelyszín: FSZEK Budafoki Könyvtárhttps://klauzalhaz.hu/…/budafok-20-szazadi…/ \nmájus 20. szerda 18.00Ébredő mozdulatok – Generációk történeteiHelyszín: Klauzál Házhttps://klauzalhaz.hu/…/ebredo-mozdulatok-generaciok…/ \nmájus 20. szerda 19.00Miénk a ház – Grecsó Krisztián és Hrutka Róbert zenés irodalmi estHelyszín: Törley Pezsgőmanufaktúrahttps://klauzalhaz.jegy.hu/…/grecsohrutka-duo-mienk-a…https://klauzalhaz.jegy.hu/…/grecsohrutka-duo-mienk-a… \nmájus 22. péntek 17.00Nagy Mihály: Nyugaton kelt a Nap című történelmi regényének bemutatójaHelyszín: MNMKK MNM Campona Victrix Régészeti Kiállítóhelyhttps://klauzalhaz.hu/…/nagy-mihaly-nyugaton-kelt-a…/ \nmájus 22. péntek 18.00Ligeti Zsuzsa grafikusművész önálló kiállításaHelyszín: Magdolna Udvarhttps://klauzalhaz.hu/…/ligeti-zsuzsa-grafikusmuvesz…/ \nmájus 22-24.Pünkösdi filmvetítések a kertmozibanHelyszín: DunaFok Szabadidőparkhttps://klauzalhaz.hu/…/punkosdi…/2026-05-22/ \nmájus 23. szombat 15.00Rajt a pARTon! – Közösségi futás Nagytéténytől BudafokigIndulási pont: Nagytétényi Kastély főbejáratahttps://klauzalhaz.hu/…/rajt-a-parton-kozossegi-futas…/ \nmájus 27. szerda 18.00Fejes Erika gálaHelyszín: Klauzál Házhttps://klauzalhaz.hu/esemeny/fejes-erika-gala/ \nmájus 27. szerda 18.00Szálból szőtt történelem – hogyan nyomoz a textilkutató régész?Helyszín: FSZEK Nagytétényi Könyvtárhttps://klauzalhaz.hu/…/szalbol-szott-tortenelem…/ \nmájus 28. csütörtök 19.00Budapest Jazz Orchestra – Highlights koncertHelyszín: Klauzál Házhttps://klauzalhaz.jegy.hu/…/budapest-jazz-orchestra… \nmájus 29. péntek 17.00Májusban bolond a szív – A Budafok-Tétényi Operastúdió koncertjeHelyszín: Klauzál Házhttps://klauzalhaz.jegy.hu/…/majusban-bolond-a-sziv… \nmájus 29. péntek 17.00 / május 30. szombat 11.00 és 17.00Múltszázadi képek 1900-1920 | Néptánc gálaHelyszín: Klauzál Házhttps://klauzalhaz.hu/…/multszazadi-kepek…/2026-05-29/ \nmájus 29-30.aqb Open House – VendégségHelyszín: Art quarterhttps://klauzalhaz.hu/esemeny/aqb-open-house-vendegseg/ \nmájus 30. szombat 18.00Romhányi József 105 – Pódiumbeszélgetés és jazz estHelyszín: Cziffra Színtérhttps://klauzalhaz.jegy.hu/…/romhanyi-jozsef-105… \nmájus 30. szombat 20.00DunaFok Naplemente Session – Saya Noé Solo Live Act koncertHelyszín: DunaFok Szabadidőparkhttps://klauzalhaz.hu/…/dunafok-naplemente-session…/ \nmájus 31. vasárnap 19.00Somnakaj – gypsy musicalHelyszín: Klauzál Házhttps://klauzalhaz.jegy.hu/program/somnakaj-186204 \njúnius 3. szerda 17.00A Magyar Művészetért Díjrendszer 50. Díjátadó GálájaHelyszín: Klauzál Házhttps://klauzalhaz.hu/…/a-magyar-muveszetert…/ \njúnius 5. péntek 17.30Szó – képek | Szatmári Éva kiállításaHelyszín: FSZEK Nagytétényi Könyvtárhttps://klauzalhaz.hu/…/szo-kepek-szatmari-eva-kiallitasa/ \njúnius 5. péntek 19.00Parafrázis a lélek muzsikájára… – Szirtes Edina “Mókus” és Csonka Gábor hegedűduójának hangversenyeHelyszín: Vojnovich-Huszár Villahttps://vojnovich.hu/ \njúnius 6. szombat 17.00Budafoki Időutazás – tematikus séta Vágvölgyi AnikóvalHelyszín: Barlanglakás Emlékkiállításhttps://bornegyed.hu/…/budafoki-idoutazas-a-kerulet… \njúnius 6 – 7. szombat-vasárnap 10.00-tólRózsafesztiválHelyszín: Budatétényi Rózsakerthttps://klauzalhaz.hu/…/budatetenyi…/2026-06-06/ \njúnius 6. szombat 20.30-tólTavaszi ZeneFeszt – Intim torna Illegál és a Pannonia Allstars Orchestra koncertjeiHelyszín: Budafoki Szomszédok Piactérhttps://klauzalhaz.hu/esemeny/tavaszi-zenefeszt/ \njúnius 7. vasárnap 16.30-tólFesztiválzáró – Goldi Geri gyerekshow és az Ocho Macho koncertjeHelyszín: Budafoki Szomszédok Piactérhttps://klauzalhaz.hu/esemeny/fesztivalzaro/ \nMegosztom:
URL:https://klauzalhaz.hu/esemeny/50-budafok-tetenyi-tavaszi-muveszeti-fesztival/
LOCATION:Klauzál Gábor Művelődési Központ\, Nagytétényi út 31-33\, Budapest\, 1222\, Hungary
CATEGORIES:Programok,Tavaszi Fesztivál 2026
ATTACH;FMTTYPE=image/jpeg:https://klauzalhaz.hu/wp-content/uploads/2026/04/50.-feszt-e1776699342285.jpg
END:VEVENT
END:VCALENDAR